Workbook
Name Salaire_chercheur: #REF!
Name Salaire_chercheur: #REF!
Name Salaire_chercheur: #REF!
Name Salaire_chercheur: #REF!
Name Salaire_chercheur: #REF!
Name Salaire_chercheur: #REF!
Name Salaire_chercheur: #REF!
Name Salaire_chercheur: #REF!
Name Salaire_chercheur: Listes!#REF!
Name Salaire_directeur: #REF!
Name Salaire_directeur: #REF!
Name Salaire_directeur: #REF!
Name Salaire_directeur: #REF!
Name Salaire_directeur: #REF!
Name Salaire_directeur: #REF!
Name Salaire_directeur: #REF!
Name Salaire_directeur: #REF!
Name Salaire_directeur: Listes!#REF!
Name Salaire_ingénieur: #REF!
Name Salaire_ingénieur: #REF!
Name Salaire_ingénieur: #REF!
Name Salaire_ingénieur: #REF!
Name Salaire_ingénieur: #REF!
Name Salaire_ingénieur: #REF!
Name Salaire_ingénieur: #REF!
Name Salaire_ingénieur: #REF!
Name Salaire_ingénieur: Listes!#REF!
Name Salaire_technicien: #REF!
Name Salaire_technicien: #REF!
Name Salaire_technicien: #REF!
Name Salaire_technicien: #REF!
Name Salaire_technicien: #REF!
Name Salaire_technicien: #REF!
Name Salaire_technicien: #REF!
Name Salaire_technicien: #REF!
Name Salaire_technicien: Listes!#REF!

Sheet Versions
A1: FEUILLE DE SYNTHESE DES DEPENSES
A2: N° de version | B2: Date de livraison | C2: Modifications apportées
A3: V1.0 | B3: /07/2026 | C3: Création de la feuille

Sheet Notice
A9: FEADER 2023-2027 MAYOTTE Fiche Intervention 77.07 - SOUTIEN AUX PROJETS PILOTES ET DEVELOPPEMENT DE NOUVEAUX PRODUITS, PRATIQUES, PROCEDES ET TECHNIQUES
L10: Version 2 de la fiche de synthèse des dépenses 77.07 (15/12/2025)
A12: Consignes d'utilisation
A13: Chaque colonne avec un " * " doit être obligatoirement remplie. Une zone de commentaire est présente et nous vous invitons à l'utiliser le plus souvent.
D14: Merci de consulter le guide du bénéficiaire et la notice transversale à la demande d'aide au lien suivant : | M14: https://daaf.mayotte.agriculture.gouv.fr/guide-du-beneficiaire-et-notice-transversale-a618.html
A16: Attention : les acomptes sont possibles dans la limite de 80 % du montant total de la subvention publique, après déduction de l’avance (Seuil minimum : 1 500 € de dépenses éligibles par acompte).
A18: Si vous n'avez pas Excel, ce document peut etre utilisé avec LibreOffice. Une fois le dossier complété, merci de le déposer au format Excel sur Safran.
A21: Rappels réglementaires
A22: Dépenses sur factures
A23: Remboursement des dépenses sur la base des factures acquittées.
A24: Dépenses sur frais de personnel
A25: Les frais de personnel (salaire brut chargé) sont remboursés au réel. Les salaires sont plafonnés de la manière suivante :
H26: Niveau d’étude - Poste | J26: Salaire brut chargé maximal annuel pour un temps plein (1607 heures annuelles)
H27: Technicien | J27: 60000
H28: Ingénieur | J28: 80000
H29: Directeur | J29: 110000
H30: Chercheur | J30: 140000
A31: Les dépenses sur rémunérations sont calculées sur une base unique de 1607 heures par an. Exemple : Salaire annuel / 1607h = Coût horaire Coût horaire * Nombre d’heures travaillées = Montant demandé
A32: Dépenses sur frais de structure
A33: Les frais de structures correspondent aux frais de fonctionnement liés au projet déposé. Ils sont calculés sur la base d’une option de coûts simplifiés (OCS). Aucune pièce justificative n’est attendu pour ce type de dépense. Les frais de structures seront calculés automatiquement et correspondent à un forfait fixe de 15% des frais de personnels éligibles retenues.
A34: Dépenses sur frais réels
A35: Les déplacements en avion et en train sont admissibles et pris en compte sur frais réels, selon les modalités suivantes : - Uniquement en classe économique (avion) ou seconde classe (train), - Plafonnés à hauteur de 1 900 € pour un Aller-Retour entre Mayotte et l’Hexagone (Avion), - Plafonnés à hauteur de 700 € pour un Aller-Retour entre Mayotte et La Réunion (Avion), - Plafonnés 2200 € pour un Aller-Retour entre Mayotte et les Caraïbes (Avion). Attention : La location de véhicules individuels est inéligible en frais réels dans le cadre de la programmation 2023 – 2027. En revanche des dépenses de déplacement sur barèmes kilométriques peuvent être présentées, en utilisant un véhicule de location.
A36: Dépenses forfaitaires (hébergement, restauration, déplacements sur base forfaitaire)
A37: Pour les dépenses de restauration et d’hébergement, le calcul du montant des dépenses s’effectue sur la base du barème de la fonction publique en cours au moment du dépôt de la demande d’aide (pour la demande d’aide). Les forfaits applicables aux dépenses de déplacement sur base forfaitaire sont ceux de l'arrêté du 27 mars 2023 fixant le barème forfaitaire permettant l'évaluation des frais de déplacement relatifs à l'utilisation d'un véhicule par les bénéficiaires de traitements et salaires optant pour le régime des frais réels déductibles.
A38: Frais de restauration : 20 € (à hauteur de deux repas maximum par jour)
A39: Frais de d'hébergement : Voir l'arrêté du 20 septembre 2023
A40: Frais de déplacement : Voir l'arrêté du 27 mars 2023
I42: Catégories de dépenses | L42: Sous-catégories de dépenses
I43: Dépenses sur devis | L43: Publicité européenne
L44: Achat de prestation
L45: Communication et promotion
L46: Achat de matériel
L47: Etude préalable
I48: Frais de personnel | L48: Salaire chercheur
L49: Salaire directeur
L50: Salaire ingénieur
L51: Salaire technicien
I52: Frais de structure | L52: 15% des frais de personnel
I53: Dépenses sur frais réels | L53: Billets d'avion
L54: Billets de train
...

Sheet Synthèse dépenses bénéficiaire
A9: FEADER 2023-2027 MAYOTTE Fiche Intervention 77.07 - SOUTIEN AUX PROJETS PILOTES ET DEVELOPPEMENT DE NOUVEAUX PRODUITS, PRATIQUES, PROCEDES ET TECHNIQUES
A10: Nom ou raison sociale du porteur de projet
A11: Intitulé du projet
A12: N°dossier SAFRAN
A13: Objet Demande de Paiement
A14: Synthèse des montants présentées à la demande de paiement
C16: Type de dépenses | D16: Montant présenté | F16: Catégories de dépenses et Sous-catégories de dépenses | G16: Montant présenté
C17: Dépenses sur factures | D17: =G17 -> 0 | F17: Dépenses sur factures | G17: =IF(C31="",0,SUM(G18:G22)) -> 0
C18: Dépenses sur frais de personnel | D18: =G23 -> 0 | F18: Publicité européenne | G18: =IF($C$31="",0,SUMIF('Dépenses sur factures'!$E$7:$E$506,'Synthèse dépenses bénéficiaire'!F18,'Dépenses sur factures'!$I$7:$I$506)) -> 0 | M18: Transfert | N18: Hors transfert
C19: Dépenses sur frais de structures | D19: =G28 -> 0 | F19: Achat de matériel | G19: =IF($C$31="",0,SUMIF('Dépenses sur factures'!$E$7:$E$506,'Synthèse dépenses bénéficiaire'!F19,'Dépenses sur factures'!$I$7:$I$506)) -> 0 | M19: =SUMIFS('Dépenses rémunération au réel'!$M$7:$M$506,'Dépenses rémunération au réel'!$F$7:$F$506,"Transfert") -> 0 | N19: =SUMIFS('Dépenses rémunération au réel'!$M$7:$M$506,'Dépenses rémunération au réel'!$F$7:$F$506,"Hors-Transfert") -> 0
C20: Dépenses sur frais réels | D20: =G30 -> 0 | F20: Achat de prestation | G20: =IF($C$31="",0,SUMIF('Dépenses sur factures'!$E$7:$E$506,'Synthèse dépenses bénéficiaire'!F20,'Dépenses sur factures'!$I$7:$I$506)) -> 0 | M20: =IF(C31="Oui",M19*0.15,0) -> 0 | N20: =IF(C31="Oui",N19*0.15,0) -> 0
C21: Dépenses forfaitaires | D21: =G33 -> 0 | F21: Communication et promotion | G21: =IF($C$31="",0,SUMIF('Dépenses sur factures'!$E$7:$E$506,'Synthèse dépenses bénéficiaire'!F21,'Dépenses sur factures'!$I$7:$I$506)) -> 0
C22: Total | D22: =SUM(D17:D21) -> 0 | F22: Etude préalable | G22: =IF($C$31="",0,SUMIF('Dépenses sur factures'!$E$7:$E$506,'Synthèse dépenses bénéficiaire'!F22,'Dépenses sur factures'!$I$7:$I$506)) -> 0
F23: Dépenses de rémunération au réel | G23: =IF(C31="",0,SUM(G24:G27)) -> 0
C24: Montant en "Transfert" | D24: Montant en "Hors-Transfert" | F24: Salaire_chercheur | G24: =IF($C$31="",0,SUMIF('Dépenses rémunération au réel'!$E$7:$E$506,'Synthèse dépenses bénéficiaire'!F24,'Dépenses rémunération au réel'!$M$7:$M$506)) -> 0 | N24: Hors-Transfert
C25: =IF(C31="",0,SUMIFS('Dépenses sur factures'!$I$7:$I$506,'Dépenses sur factures'!$F$7:$F$506,"Transfert")+SUMIFS('Dépenses rémunération au réel'!$M$7:$M$506,'Dépenses rémunération au réel'!$F$7:$F$506,"Transfert")+SUMIFS('Dépenses sur frais réels'!$J$7:$J$506,'Dépenses sur frais réels'!$F$7:$F$506,"Transfert")+SUMIFS('Dépenses forfaitaires'!$Q$7:$Q$506,'Dépenses forfaitaires'!$J$7:$J$506,"Transfert")+M20) -> 0 | D25: =IF(C31="",0,SUMIFS('Dépenses sur factures'!$I$7:$I$506,'Dépenses sur factures'!$F$7:$F$506,"Hors-Transfert")+SUMIFS('Dépenses rémunération au réel'!$M$7:$M$506,'Dépenses rémunération au réel'!$F$7:$F$506,"Hors-Transfert")+SUMIFS('Dépenses sur frais réels'!$J$7:$J$506,'Dépenses sur frais réels'!$F$7:$F$506,"Hors-Transfert")+SUMIFS('Dépenses forfaitaires'!$Q$7:$Q$506,'Dépenses forfaitaires'!$J$7:$J$506,"Hors-Transfert")+N20) -> 0 | F25: Salaire_directeur | G25: =IF($C$31="",0,SUMIF('Dépenses rémunération au réel'!$E$7:$E$506,'Synthèse dépenses bénéficiaire'!F25,'Dépenses rémunération au réel'!$M$7:$M$506)) -> 0
C26: =IFERROR(IF(C29=0,0,C25/D22),0) -> 0 | D26: =IFERROR(IF(C29=0,0,D25/D22),0) -> 0 | F26: Salaire_ingénieur | G26: =IF($C$31="",0,SUMIF('Dépenses rémunération au réel'!$E$7:$E$506,'Synthèse dépenses bénéficiaire'!F26,'Dépenses rémunération au réel'!$M$7:$M$506)) -> 0
F27: Salaire_technicien | G27: =IF($C$31="",0,SUMIF('Dépenses rémunération au réel'!$E$7:$E$506,'Synthèse dépenses bénéficiaire'!F27,'Dépenses rémunération au réel'!$M$7:$M$506)) -> 0
F28: Dépenses sur frais de structure | G28: =IF(C31="",0,G29) -> 0
C29: Souhaitez-vous solliciter la prise en charge des frais de structure ? * | F29: 15% des frais de personnel | G29: =IF(C31="Non",0,G23*0.15) -> 0
C30: Dans le cadre de votre projet, si vous avez déjà obtenu d'autres financements pour vos frais de structure, ou si vous êtes en cours de démarche pour les obtenir, répondez "Non", sinon répondez "Oui". | F30: Déplacements sur frais réels | G30: =IF(C31="",0,G31+G32) -> 0
F31: Billets d'avion | G31: =IF($C$31="",0,SUMIF('Dépenses sur frais réels'!$E$7:$E$506,'Synthèse dépenses bénéficiaire'!F31,'Dépenses sur frais réels'!$J$7:$J$506)) -> 0
F32: Billets de train | G32: =IF($C$31="",0,SUMIF('Dépenses sur frais réels'!$E$7:$E$506,'Synthèse dépenses bénéficiaire'!F32,'Dépenses sur frais réels'!$J$7:$J$506)) -> 0
F33: Dépenses forfaitaires | G33: =IF(C31="",0,SUM(G34:G36)) -> 0
F34: Frais de déplacement (barèmes kilométriques) | G34: =IF($C$31="",0,SUMIF('Dépenses forfaitaires'!$H$7:$H$506,'Synthèse dépenses bénéficiaire'!F34,'Dépenses forfaitaires'!$Q$7:$Q$506)) -> 0
F35: Frais d'hébergement | G35: =IF($C$31="",0,SUMIF('Dépenses forfaitaires'!$H$7:$H$506,'Synthèse dépenses bénéficiaire'!F35,'Dépenses forfaitaires'!$Q$7:$Q$506)) -> 0
F36: Frais de restauration | G36: =IF($C$31="",0,SUMIF('Dépenses forfaitaires'!$H$7:$H$506,'Synthèse dépenses bénéficiaire'!F36,'Dépenses forfaitaires'!$Q$7:$Q$506)) -> 0
F37: Total | G37: =G17+G23+G28+G30+G33 -> 0

Sheet Dépenses sur factures
A1: DEMANDEUR
A2: Dépenses sur Factures Les colonnes marquées d'un " * " sont à remplir obligatoirement pour chaque ligne de dépense. Merci de ne pas modifier ce document.
A3: N° | B3: Description de la dépense * | C3: Dénomination du fournisseur du devis choisi * | D3: Identifiant du justificatif * | E3: Sous catégories de dépenses * | F3: Type de transfert * | G3: Date d'émission* | H3: Date d'acquittement * | I3: Montant HT présenté * | J3: Commentaires
B4: (nature de la dépense indiquée sur le justificatif de dépense. Ex : désignation de l'article, de l'objet…) | C4: (nom de l'entreprise, de la structure émettrice du justificatif) | D4: (information présente sur le justificatif joint. Ex: numéro de facture,...) | E4: Sélectionner la sous-catégorie de dépenses | F4: Choisissez "Transfert" ou "Hors-Transfert" | G4: Date d'émission du justificatif | H4: Date d'acquittement du justificatif | I4: (montant hors taxes de la facture, en euros) | J4: (le cas échéant, pour préciser un point saillant au Service Instructeur)
A5: Exemple | B5: Imprimante | C5: Design Print | D5: 20240223-0001 | E5: Equipement bureau | F5: Hors-Transfert | G5: 45689 | H5: 45747 | I5: 2850
H6: TOTAL | I6: =SUM(I7:I506) -> 0
A7: 1
A8: 2
A9: 3
A10: 4
A11: 5
A12: 6
A13: 7
A14: 8
A15: 9
A16: 10
A17: 11
A18: 12
... A506: 500
E507: TOTAL | I507: =SUM(I7:I506) -> 0

Sheet Dépenses rémunération au réel
A1: DEMANDEUR
A2: Dépenses de rémunération au réel Les colonnes marquées d'un " * " sont à remplir obligatoirement pour chaque ligne de dépense. Merci de ne pas modifier ce document.
A3: N° | B3: Description de l'intervention * | C3: Nom de l'intervenant * | D3: Qualification de l'intervenant * | E3: Sous catégories de dépenses * | F3: Type de transfert * | G3: Identifiant du justificatif * | H3: Date de début * | I3: Date de fin * | J3: Coût salarial sur la période * | K3: Temps de travail sur la période * | L3: Temps de travail sur l'opération * | M3: Montant HT demandé | N3: Commentaires
B4: Description de la mission de la personne | C4: Nom et prénom de la personne | D4: Diplôme, niveau d'etude, etc…. | E4: Sélectionner la sous-catégorie de dépense | F4: Choisissez "Transfert" ou "Hors-Transfert" | G4: Ex: Bulletin de paie,... | H4: Date de début de l'intervention | I4: Date de fin de l'intervention | J4: Les dépenses sur rémunérations sont calculées sur une base unique de 1607 heures par an. | N4: (le cas échéant, pour préciser un point saillant au Service Instructeur)
A5: Exemple | B5: Salaire du chargée de mission | C5: M. Salaire | D5: Ingénieur | E5: Salaire_ingénieur | F5: Hors-Transfert | H5: 45292 | I5: 45474 | J5: 34000 | K5: 212 | L5: 204 | M5: =IF($E5="","",IF(OR(($J5=0),($K5=0)),0,$J5/$K5*$L5)) -> 32716.981
L6: TOTAL | M6: =SUM(M7:M506) -> 0
A7: 1 | M7: =IF($E7="","",IF(OR(($J7=0),($K7=0)),0,$J7/$K7*$L7))
A8: 2 | M8: =IF($E8="","",IF(OR(($J8=0),($K8=0)),0,$J8/$K8*$L8))
A9: 3 | M9: =IF($E9="","",IF(OR(($J9=0),($K9=0)),0,$J9/$K9*$L9))
A10: 4 | M10: =IF($E10="","",IF(OR(($J10=0),($K10=0)),0,$J10/$K10*$L10))
A11: 5 | M11: =IF($E11="","",IF(OR(($J11=0),($K11=0)),0,$J11/$K11*$L11))
A12: 6 | M12: =IF($E12="","",IF(OR(($J12=0),($K12=0)),0,$J12/$K12*$L12))
A13: 7 | M13: =IF($E13="","",IF(OR(($J13=0),($K13=0)),0,$J13/$K13*$L13))
A14: 8 | M14: =IF($E14="","",IF(OR(($J14=0),($K14=0)),0,$J14/$K14*$L14))
A15: 9 | M15: =IF($E15="","",IF(OR(($J15=0),($K15=0)),0,$J15/$K15*$L15))
A16: 10 | M16: =IF($E16="","",IF(OR(($J16=0),($K16=0)),0,$J16/$K16*$L16))
A17: 11 | M17: =IF($E17="","",IF(OR(($J17=0),($K17=0)),0,$J17/$K17*$L17))
A18: 12 | M18: =IF($E18="","",IF(OR(($J18=0),($K18=0)),0,$J18/$K18*$L18))
... A506: 500 | M506: =IF($E506="","",IF(OR(($J506=0),($K506=0)),0,$J506/$K506*$L506))
K507: TOTAL | M507: =SUM(M7:M506) -> 0

Sheet Dépenses sur frais réels
A1: DEMANDEUR
A2: Dépenses sur frais réels Les colonnes marquées d'un " * " sont à remplir obligatoirement pour chaque ligne de dépense. Merci de ne pas modifier ce document.
A3: N° | B3: Description de la dépense * | C3: Nom de l'intervenant * | D3: Identifiant du justificatif * | E3: Sous catégories de dépenses * | F3: Type de transfert * | G3: Nature du billet d'avion | H3: Date d'émission* | I3: Date d'acquittement * | J3: Montant HT demandé * | K3: Montant du plafond | L3: Commentaires
B4: (Veuillez saisir qu'un seul billet d'avion ou de train par ligne) | C4: (information présente sur le justificatif joint) | E4: Sélectionner la sous-catégorie de dépense | F4: Choisissez "Transfert" ou "Hors-Transfert" | G4: (Demandé uniquement pour les billets d'avion) | H4: Date d'émission du justificatif | I4: Date d'acquittement du justificatif | J4: (montant hors taxes) | K4: (Rappel du plafond en vigueur pour ce type de dépenses) | L4: (le cas échéant, pour préciser un point saillant au Service Instructeur)
A5: Exemple | B5: Billets d'avion Aller - Retour Mayotte - Paris | C5: M. Avion | D5: OM 1412 | E5: Billets d'avion | F5: Hors-Transfert | G5: Aller - Retour Mayotte - Hexagone | H5: 45292 | I5: 45292 | J5: 1900 | L5: Déplacement dans le cadre de la formation lié au projet
I6: TOTAL | J6: =SUM(J7:J506) -> 0
A7: 1 | K7: =IF(G7="", "", IF(E7="Billets de train", "", IF(E7="", "", VLOOKUP(G7, Listes!$G$31:$H$33, 2, FALSE))))
A8: 2 | K8: =IF(G8="", "", IF(E8="Billets de train", "", IF(E8="", "", VLOOKUP(G8, Listes!$G$31:$H$33, 2, FALSE))))
A9: 3 | K9: =IF(G9="", "", IF(E9="Billets de train", "", IF(E9="", "", VLOOKUP(G9, Listes!$G$31:$H$33, 2, FALSE))))
A10: 4 | K10: =IF(G10="", "", IF(E10="Billets de train", "", IF(E10="", "", VLOOKUP(G10, Listes!$G$31:$H$33, 2, FALSE))))
A11: 5 | K11: =IF(G11="", "", IF(E11="Billets de train", "", IF(E11="", "", VLOOKUP(G11, Listes!$G$31:$H$33, 2, FALSE))))
A12: 6 | K12: =IF(G12="", "", IF(E12="Billets de train", "", IF(E12="", "", VLOOKUP(G12, Listes!$G$31:$H$33, 2, FALSE))))
A13: 7 | K13: =IF(G13="", "", IF(E13="Billets de train", "", IF(E13="", "", VLOOKUP(G13, Listes!$G$31:$H$33, 2, FALSE))))
A14: 8 | K14: =IF(G14="", "", IF(E14="Billets de train", "", IF(E14="", "", VLOOKUP(G14, Listes!$G$31:$H$33, 2, FALSE))))
A15: 9 | K15: =IF(G15="", "", IF(E15="Billets de train", "", IF(E15="", "", VLOOKUP(G15, Listes!$G$31:$H$33, 2, FALSE))))
A16: 10 | K16: =IF(G16="", "", IF(E16="Billets de train", "", IF(E16="", "", VLOOKUP(G16, Listes!$G$31:$H$33, 2, FALSE))))
A17: 11 | K17: =IF(G17="", "", IF(E17="Billets de train", "", IF(E17="", "", VLOOKUP(G17, Listes!$G$31:$H$33, 2, FALSE))))
A18: 12 | K18: =IF(G18="", "", IF(E18="Billets de train", "", IF(E18="", "", VLOOKUP(G18, Listes!$G$31:$H$33, 2, FALSE))))
... A506: 500 | K506: =IF(G506="", "", IF(E506="Billets de train", "", IF(E506="", "", VLOOKUP(G506, Listes!$G$31:$H$33, 2, FALSE))))
G507: TOTAL | J507: =SUM(J7:J506) -> 0

Sheet Dépenses forfaitaires
A1: DEMANDEUR
A2: Dépenses forfaitaires Les colonnes marquées d'un " * " sont à remplir obligatoirement pour chaque ligne de dépense. Merci de ne pas modifier ce document.
A3: N° | B3: Description de l'intervention * | C3: Description du forfait * | D3: Puissance du véhicule | E3: Nombre de kilomètres total réalisés | F3: Localisation des frais d'hébergement | G3: Identifiant du justificatif * | H3: Sous catégories de dépenses * | I3: Nombre d'intervention * | J3: Type de transfert * | K3: Date de début * | L3: Date de fin * | M3: Unité | N3: Code barème | Q3: Montant HT demandé | R3: Commentaires
B4: (Veuillez précisez la nature du forfait demandé) | C4: (Veuillez choisir le forfait demandé) | D4: (Demandé uniquement pour les frais de déplacement) Merci de renseigner le nombre de kilomètre total de l'intervention | F4: (Demandé uniquement pour les frais d'hébergement) | G4: (information présente sur le justificatif joint. Ex: note de frais,...) | H4: Sélectionner la sous-catégorie de dépense | I4: Pour les Frais de déplacement (barèmes kilométriques) merci de saisir 1 intervention | J4: Choisissez "Transfert" ou "Hors-Transfert" | K4: Date de début de l'intervention | L4: Date de fin de l'intervention | N4: Ces 3 colonnes sont à masquer pour le porteur de projet | Q4: (Montant hors taxes) | R4: (le cas échéant, pour préciser un point saillant au Service Instructeur)
L5: Total | Q5: =SUM(Q7:Q506) -> 0
A6: Exemple | B6: Déplacement Mamoudzou - Coconi | C6: Frais de déplacement Motocyclettes | D6: 3 CV | E6: 24 | G6: note de frais 1 | H6: Frais de déplacement (barèmes kilométriques) | I6: 1 | J6: Hors-Transfert | K6: 45292 | L6: 45292 | M6: Kilomètres | N6: 11.232 | Q6: 44.93
A7: 1 | H7: =IF(C7="","",IF(C7="","",(VLOOKUP(C7,Listes!$B$31:$C$35,2,FALSE)))) | I7: =IF(H7="Frais de déplacement (barèmes kilométriques) ",1,"") | M7: =IF(H7="","",IF(H7="","",(VLOOKUP(H7,Listes!$C$31:$D$35,2,FALSE)))) | N7: =IF($H7="","",IF($C7=Listes!$B$32,IF('Dépenses forfaitaires'!$E7<=Listes!$B$53,('Dépenses forfaitaires'!$E7*(VLOOKUP('Dépenses forfaitaires'!$D7,Listes!$A$54:$E$60,2,FALSE))),IF('Dépenses forfaitaires'!$E7>Listes!$E$53,('Dépenses forfaitaires'!$E7*(VLOOKUP('Dépenses forfaitaires'!$D7,Listes!$A$54:$E$60,5,FALSE))),('Dépenses forfaitaires'!$E7*(VLOOKUP('Dépenses forfaitaires'!$D7,Listes!$A$54:$E$60,3,FALSE)))+(VLOOKUP('Dépenses forfaitaires'!$D7,Listes!$A$54:$E$60,4,FALSE)))))) | O7: =IF($H7="","",IF($C7=Listes!$B$31,IF('Dépenses forfaitaires'!$E7<=Listes!$B$42,('Dépenses forfaitaires'!$E7*(VLOOKUP('Dépenses forfaitaires'!$D7,Listes!$A$43:$E$49,2,FALSE))),IF('Dépenses forfaitaires'!$E7>Listes!$D$42,('Dépenses forfaitaires'!$E7*(VLOOKUP('Dépenses forfaitaires'!$D7,Listes!$A$43:$E$49,5,FALSE))),('Dépenses forfaitaires'!$E7*(VLOOKUP('Dépenses forfaitaires'!$D7,Listes!$A$43:$E$49,3,FALSE)))+(VLOOKUP('Dépenses forfaitaires'!$D7,Listes!$A$43:$E$49,4,FALSE)))))) | P7: =IF($H7="","",IF($C7=Listes!$B$34,Listes!$I$31,IF($C7=Listes!$B$35,(VLOOKUP('Dépenses forfaitaires'!$F7,Listes!$E$31:$F$36,2,FALSE)),IF($C7=Listes!$B$33,IF('Dépenses forfaitaires'!$E7<=Listes!$A$64,'Dépenses forfaitaires'!$E7*Listes!$A$65,IF('Dépenses forfaitaires'!$E7>Listes!$D$64,'Dépenses forfaitaires'!$E7*Listes!$D$65,(('Dépenses forfaitaires'!$E7*Listes!$B$65)+Listes!$C$65))))))) | Q7: =IF($I7="","",($P7+$O7+$N7)*$I7)
A8: 2 | H8: =IF(C8="","",IF(C8="","",(VLOOKUP(C8,Listes!$B$31:$C$35,2,FALSE)))) | I8: =IF(H8="Frais de déplacement (barèmes kilométriques) ",1,"") | M8: =IF(H8="","",IF(H8="","",(VLOOKUP(H8,Listes!$C$31:$D$35,2,FALSE)))) | N8: =IF($H8="","",IF($C8=Listes!$B$32,IF('Dépenses forfaitaires'!$E8<=Listes!$B$53,('Dépenses forfaitaires'!$E8*(VLOOKUP('Dépenses forfaitaires'!$D8,Listes!$A$54:$E$60,2,FALSE))),IF('Dépenses forfaitaires'!$E8>Listes!$E$53,('Dépenses forfaitaires'!$E8*(VLOOKUP('Dépenses forfaitaires'!$D8,Listes!$A$54:$E$60,5,FALSE))),('Dépenses forfaitaires'!$E8*(VLOOKUP('Dépenses forfaitaires'!$D8,Listes!$A$54:$E$60,3,FALSE)))+(VLOOKUP('Dépenses forfaitaires'!$D8,Listes!$A$54:$E$60,4,FALSE)))))) | O8: =IF($H8="","",IF($C8=Listes!$B$31,IF('Dépenses forfaitaires'!$E8<=Listes!$B$42,('Dépenses forfaitaires'!$E8*(VLOOKUP('Dépenses forfaitaires'!$D8,Listes!$A$43:$E$49,2,FALSE))),IF('Dépenses forfaitaires'!$E8>Listes!$D$42,('Dépenses forfaitaires'!$E8*(VLOOKUP('Dépenses forfaitaires'!$D8,Listes!$A$43:$E$49,5,FALSE))),('Dépenses forfaitaires'!$E8*(VLOOKUP('Dépenses forfaitaires'!$D8,Listes!$A$43:$E$49,3,FALSE)))+(VLOOKUP('Dépenses forfaitaires'!$D8,Listes!$A$43:$E$49,4,FALSE)))))) | P8: =IF($H8="","",IF($C8=Listes!$B$34,Listes!$I$31,IF($C8=Listes!$B$35,(VLOOKUP('Dépenses forfaitaires'!$F8,Listes!$E$31:$F$36,2,FALSE)),IF($C8=Listes!$B$33,IF('Dépenses forfaitaires'!$E8<=Listes!$A$64,'Dépenses forfaitaires'!$E8*Listes!$A$65,IF('Dépenses forfaitaires'!$E8>Listes!$D$64,'Dépenses forfaitaires'!$E8*Listes!$D$65,(('Dépenses forfaitaires'!$E8*Listes!$B$65)+Listes!$C$65))))))) | Q8: =IF($I8="","",($P8+$O8+$N8)*$I8)
A9: 3 | H9: =IF(C9="","",IF(C9="","",(VLOOKUP(C9,Listes!$B$31:$C$35,2,FALSE)))) | I9: =IF(H9="Frais de déplacement (barèmes kilométriques) ",1,"") | M9: =IF(H9="","",IF(H9="","",(VLOOKUP(H9,Listes!$C$31:$D$35,2,FALSE)))) | N9: =IF($H9="","",IF($C9=Listes!$B$32,IF('Dépenses forfaitaires'!$E9<=Listes!$B$53,('Dépenses forfaitaires'!$E9*(VLOOKUP('Dépenses forfaitaires'!$D9,Listes!$A$54:$E$60,2,FALSE))),IF('Dépenses forfaitaires'!$E9>Listes!$E$53,('Dépenses forfaitaires'!$E9*(VLOOKUP('Dépenses forfaitaires'!$D9,Listes!$A$54:$E$60,5,FALSE))),('Dépenses forfaitaires'!$E9*(VLOOKUP('Dépenses forfaitaires'!$D9,Listes!$A$54:$E$60,3,FALSE)))+(VLOOKUP('Dépenses forfaitaires'!$D9,Listes!$A$54:$E$60,4,FALSE)))))) | O9: =IF($H9="","",IF($C9=Listes!$B$31,IF('Dépenses forfaitaires'!$E9<=Listes!$B$42,('Dépenses forfaitaires'!$E9*(VLOOKUP('Dépenses forfaitaires'!$D9,Listes!$A$43:$E$49,2,FALSE))),IF('Dépenses forfaitaires'!$E9>Listes!$D$42,('Dépenses forfaitaires'!$E9*(VLOOKUP('Dépenses forfaitaires'!$D9,Listes!$A$43:$E$49,5,FALSE))),('Dépenses forfaitaires'!$E9*(VLOOKUP('Dépenses forfaitaires'!$D9,Listes!$A$43:$E$49,3,FALSE)))+(VLOOKUP('Dépenses forfaitaires'!$D9,Listes!$A$43:$E$49,4,FALSE)))))) | P9: =IF($H9="","",IF($C9=Listes!$B$34,Listes!$I$31,IF($C9=Listes!$B$35,(VLOOKUP('Dépenses forfaitaires'!$F9,Listes!$E$31:$F$36,2,FALSE)),IF($C9=Listes!$B$33,IF('Dépenses forfaitaires'!$E9<=Listes!$A$64,'Dépenses forfaitaires'!$E9*Listes!$A$65,IF('Dépenses forfaitaires'!$E9>Listes!$D$64,'Dépenses forfaitaires'!$E9*Listes!$D$65,(('Dépenses forfaitaires'!$E9*Listes!$B$65)+Listes!$C$65))))))) | Q9: =IF($I9="","",($P9+$O9+$N9)*$I9)
A10: 4 | H10: =IF(C10="","",IF(C10="","",(VLOOKUP(C10,Listes!$B$31:$C$35,2,FALSE)))) | I10: =IF(H10="Frais de déplacement (barèmes kilométriques) ",1,"") | M10: =IF(H10="","",IF(H10="","",(VLOOKUP(H10,Listes!$C$31:$D$35,2,FALSE)))) | N10: =IF($H10="","",IF($C10=Listes!$B$32,IF('Dépenses forfaitaires'!$E10<=Listes!$B$53,('Dépenses forfaitaires'!$E10*(VLOOKUP('Dépenses forfaitaires'!$D10,Listes!$A$54:$E$60,2,FALSE))),IF('Dépenses forfaitaires'!$E10>Listes!$E$53,('Dépenses forfaitaires'!$E10*(VLOOKUP('Dépenses forfaitaires'!$D10,Listes!$A$54:$E$60,5,FALSE))),('Dépenses forfaitaires'!$E10*(VLOOKUP('Dépenses forfaitaires'!$D10,Listes!$A$54:$E$60,3,FALSE)))+(VLOOKUP('Dépenses forfaitaires'!$D10,Listes!$A$54:$E$60,4,FALSE)))))) | O10: =IF($H10="","",IF($C10=Listes!$B$31,IF('Dépenses forfaitaires'!$E10<=Listes!$B$42,('Dépenses forfaitaires'!$E10*(VLOOKUP('Dépenses forfaitaires'!$D10,Listes!$A$43:$E$49,2,FALSE))),IF('Dépenses forfaitaires'!$E10>Listes!$D$42,('Dépenses forfaitaires'!$E10*(VLOOKUP('Dépenses forfaitaires'!$D10,Listes!$A$43:$E$49,5,FALSE))),('Dépenses forfaitaires'!$E10*(VLOOKUP('Dépenses forfaitaires'!$D10,Listes!$A$43:$E$49,3,FALSE)))+(VLOOKUP('Dépenses forfaitaires'!$D10,Listes!$A$43:$E$49,4,FALSE)))))) | P10: =IF($H10="","",IF($C10=Listes!$B$34,Listes!$I$31,IF($C10=Listes!$B$35,(VLOOKUP('Dépenses forfaitaires'!$F10,Listes!$E$31:$F$36,2,FALSE)),IF($C10=Listes!$B$33,IF('Dépenses forfaitaires'!$E10<=Listes!$A$64,'Dépenses forfaitaires'!$E10*Listes!$A$65,IF('Dépenses forfaitaires'!$E10>Listes!$D$64,'Dépenses forfaitaires'!$E10*Listes!$D$65,(('Dépenses forfaitaires'!$E10*Listes!$B$65)+Listes!$C$65))))))) | Q10: =IF($I10="","",($P10+$O10+$N10)*$I10)
A11: 5 | H11: =IF(C11="","",IF(C11="","",(VLOOKUP(C11,Listes!$B$31:$C$35,2,FALSE)))) | I11: =IF(H11="Frais de déplacement (barèmes kilométriques) ",1,"") | M11: =IF(H11="","",IF(H11="","",(VLOOKUP(H11,Listes!$C$31:$D$35,2,FALSE)))) | N11: =IF($H11="","",IF($C11=Listes!$B$32,IF('Dépenses forfaitaires'!$E11<=Listes!$B$53,('Dépenses forfaitaires'!$E11*(VLOOKUP('Dépenses forfaitaires'!$D11,Listes!$A$54:$E$60,2,FALSE))),IF('Dépenses forfaitaires'!$E11>Listes!$E$53,('Dépenses forfaitaires'!$E11*(VLOOKUP('Dépenses forfaitaires'!$D11,Listes!$A$54:$E$60,5,FALSE))),('Dépenses forfaitaires'!$E11*(VLOOKUP('Dépenses forfaitaires'!$D11,Listes!$A$54:$E$60,3,FALSE)))+(VLOOKUP('Dépenses forfaitaires'!$D11,Listes!$A$54:$E$60,4,FALSE)))))) | O11: =IF($H11="","",IF($C11=Listes!$B$31,IF('Dépenses forfaitaires'!$E11<=Listes!$B$42,('Dépenses forfaitaires'!$E11*(VLOOKUP('Dépenses forfaitaires'!$D11,Listes!$A$43:$E$49,2,FALSE))),IF('Dépenses forfaitaires'!$E11>Listes!$D$42,('Dépenses forfaitaires'!$E11*(VLOOKUP('Dépenses forfaitaires'!$D11,Listes!$A$43:$E$49,5,FALSE))),('Dépenses forfaitaires'!$E11*(VLOOKUP('Dépenses forfaitaires'!$D11,Listes!$A$43:$E$49,3,FALSE)))+(VLOOKUP('Dépenses forfaitaires'!$D11,Listes!$A$43:$E$49,4,FALSE)))))) | P11: =IF($H11="","",IF($C11=Listes!$B$34,Listes!$I$31,IF($C11=Listes!$B$35,(VLOOKUP('Dépenses forfaitaires'!$F11,Listes!$E$31:$F$36,2,FALSE)),IF($C11=Listes!$B$33,IF('Dépenses forfaitaires'!$E11<=Listes!$A$64,'Dépenses forfaitaires'!$E11*Listes!$A$65,IF('Dépenses forfaitaires'!$E11>Listes!$D$64,'Dépenses forfaitaires'!$E11*Listes!$D$65,(('Dépenses forfaitaires'!$E11*Listes!$B$65)+Listes!$C$65))))))) | Q11: =IF($I11="","",($P11+$O11+$N11)*$I11)
A12: 6 | H12: =IF(C12="","",IF(C12="","",(VLOOKUP(C12,Listes!$B$31:$C$35,2,FALSE)))) | I12: =IF(H12="Frais de déplacement (barèmes kilométriques) ",1,"") | M12: =IF(H12="","",IF(H12="","",(VLOOKUP(H12,Listes!$C$31:$D$35,2,FALSE)))) | N12: =IF($H12="","",IF($C12=Listes!$B$32,IF('Dépenses forfaitaires'!$E12<=Listes!$B$53,('Dépenses forfaitaires'!$E12*(VLOOKUP('Dépenses forfaitaires'!$D12,Listes!$A$54:$E$60,2,FALSE))),IF('Dépenses forfaitaires'!$E12>Listes!$E$53,('Dépenses forfaitaires'!$E12*(VLOOKUP('Dépenses forfaitaires'!$D12,Listes!$A$54:$E$60,5,FALSE))),('Dépenses forfaitaires'!$E12*(VLOOKUP('Dépenses forfaitaires'!$D12,Listes!$A$54:$E$60,3,FALSE)))+(VLOOKUP('Dépenses forfaitaires'!$D12,Listes!$A$54:$E$60,4,FALSE)))))) | O12: =IF($H12="","",IF($C12=Listes!$B$31,IF('Dépenses forfaitaires'!$E12<=Listes!$B$42,('Dépenses forfaitaires'!$E12*(VLOOKUP('Dépenses forfaitaires'!$D12,Listes!$A$43:$E$49,2,FALSE))),IF('Dépenses forfaitaires'!$E12>Listes!$D$42,('Dépenses forfaitaires'!$E12*(VLOOKUP('Dépenses forfaitaires'!$D12,Listes!$A$43:$E$49,5,FALSE))),('Dépenses forfaitaires'!$E12*(VLOOKUP('Dépenses forfaitaires'!$D12,Listes!$A$43:$E$49,3,FALSE)))+(VLOOKUP('Dépenses forfaitaires'!$D12,Listes!$A$43:$E$49,4,FALSE)))))) | P12: =IF($H12="","",IF($C12=Listes!$B$34,Listes!$I$31,IF($C12=Listes!$B$35,(VLOOKUP('Dépenses forfaitaires'!$F12,Listes!$E$31:$F$36,2,FALSE)),IF($C12=Listes!$B$33,IF('Dépenses forfaitaires'!$E12<=Listes!$A$64,'Dépenses forfaitaires'!$E12*Listes!$A$65,IF('Dépenses forfaitaires'!$E12>Listes!$D$64,'Dépenses forfaitaires'!$E12*Listes!$D$65,(('Dépenses forfaitaires'!$E12*Listes!$B$65)+Listes!$C$65))))))) | Q12: =IF($I12="","",($P12+$O12+$N12)*$I12)
A13: 7 | H13: =IF(C13="","",IF(C13="","",(VLOOKUP(C13,Listes!$B$31:$C$35,2,FALSE)))) | I13: =IF(H13="Frais de déplacement (barèmes kilométriques) ",1,"") | M13: =IF(H13="","",IF(H13="","",(VLOOKUP(H13,Listes!$C$31:$D$35,2,FALSE)))) | N13: =IF($H13="","",IF($C13=Listes!$B$32,IF('Dépenses forfaitaires'!$E13<=Listes!$B$53,('Dépenses forfaitaires'!$E13*(VLOOKUP('Dépenses forfaitaires'!$D13,Listes!$A$54:$E$60,2,FALSE))),IF('Dépenses forfaitaires'!$E13>Listes!$E$53,('Dépenses forfaitaires'!$E13*(VLOOKUP('Dépenses forfaitaires'!$D13,Listes!$A$54:$E$60,5,FALSE))),('Dépenses forfaitaires'!$E13*(VLOOKUP('Dépenses forfaitaires'!$D13,Listes!$A$54:$E$60,3,FALSE)))+(VLOOKUP('Dépenses forfaitaires'!$D13,Listes!$A$54:$E$60,4,FALSE)))))) | O13: =IF($H13="","",IF($C13=Listes!$B$31,IF('Dépenses forfaitaires'!$E13<=Listes!$B$42,('Dépenses forfaitaires'!$E13*(VLOOKUP('Dépenses forfaitaires'!$D13,Listes!$A$43:$E$49,2,FALSE))),IF('Dépenses forfaitaires'!$E13>Listes!$D$42,('Dépenses forfaitaires'!$E13*(VLOOKUP('Dépenses forfaitaires'!$D13,Listes!$A$43:$E$49,5,FALSE))),('Dépenses forfaitaires'!$E13*(VLOOKUP('Dépenses forfaitaires'!$D13,Listes!$A$43:$E$49,3,FALSE)))+(VLOOKUP('Dépenses forfaitaires'!$D13,Listes!$A$43:$E$49,4,FALSE)))))) | P13: =IF($H13="","",IF($C13=Listes!$B$34,Listes!$I$31,IF($C13=Listes!$B$35,(VLOOKUP('Dépenses forfaitaires'!$F13,Listes!$E$31:$F$36,2,FALSE)),IF($C13=Listes!$B$33,IF('Dépenses forfaitaires'!$E13<=Listes!$A$64,'Dépenses forfaitaires'!$E13*Listes!$A$65,IF('Dépenses forfaitaires'!$E13>Listes!$D$64,'Dépenses forfaitaires'!$E13*Listes!$D$65,(('Dépenses forfaitaires'!$E13*Listes!$B$65)+Listes!$C$65))))))) | Q13: =IF($I13="","",($P13+$O13+$N13)*$I13)
A14: 8 | H14: =IF(C14="","",IF(C14="","",(VLOOKUP(C14,Listes!$B$31:$C$35,2,FALSE)))) | I14: =IF(H14="Frais de déplacement (barèmes kilométriques) ",1,"") | M14: =IF(H14="","",IF(H14="","",(VLOOKUP(H14,Listes!$C$31:$D$35,2,FALSE)))) | N14: =IF($H14="","",IF($C14=Listes!$B$32,IF('Dépenses forfaitaires'!$E14<=Listes!$B$53,('Dépenses forfaitaires'!$E14*(VLOOKUP('Dépenses forfaitaires'!$D14,Listes!$A$54:$E$60,2,FALSE))),IF('Dépenses forfaitaires'!$E14>Listes!$E$53,('Dépenses forfaitaires'!$E14*(VLOOKUP('Dépenses forfaitaires'!$D14,Listes!$A$54:$E$60,5,FALSE))),('Dépenses forfaitaires'!$E14*(VLOOKUP('Dépenses forfaitaires'!$D14,Listes!$A$54:$E$60,3,FALSE)))+(VLOOKUP('Dépenses forfaitaires'!$D14,Listes!$A$54:$E$60,4,FALSE)))))) | O14: =IF($H14="","",IF($C14=Listes!$B$31,IF('Dépenses forfaitaires'!$E14<=Listes!$B$42,('Dépenses forfaitaires'!$E14*(VLOOKUP('Dépenses forfaitaires'!$D14,Listes!$A$43:$E$49,2,FALSE))),IF('Dépenses forfaitaires'!$E14>Listes!$D$42,('Dépenses forfaitaires'!$E14*(VLOOKUP('Dépenses forfaitaires'!$D14,Listes!$A$43:$E$49,5,FALSE))),('Dépenses forfaitaires'!$E14*(VLOOKUP('Dépenses forfaitaires'!$D14,Listes!$A$43:$E$49,3,FALSE)))+(VLOOKUP('Dépenses forfaitaires'!$D14,Listes!$A$43:$E$49,4,FALSE)))))) | P14: =IF($H14="","",IF($C14=Listes!$B$34,Listes!$I$31,IF($C14=Listes!$B$35,(VLOOKUP('Dépenses forfaitaires'!$F14,Listes!$E$31:$F$36,2,FALSE)),IF($C14=Listes!$B$33,IF('Dépenses forfaitaires'!$E14<=Listes!$A$64,'Dépenses forfaitaires'!$E14*Listes!$A$65,IF('Dépenses forfaitaires'!$E14>Listes!$D$64,'Dépenses forfaitaires'!$E14*Listes!$D$65,(('Dépenses forfaitaires'!$E14*Listes!$B$65)+Listes!$C$65))))))) | Q14: =IF($I14="","",($P14+$O14+$N14)*$I14)
A15: 9 | H15: =IF(C15="","",IF(C15="","",(VLOOKUP(C15,Listes!$B$31:$C$35,2,FALSE)))) | I15: =IF(H15="Frais de déplacement (barèmes kilométriques) ",1,"") | M15: =IF(H15="","",IF(H15="","",(VLOOKUP(H15,Listes!$C$31:$D$35,2,FALSE)))) | N15: =IF($H15="","",IF($C15=Listes!$B$32,IF('Dépenses forfaitaires'!$E15<=Listes!$B$53,('Dépenses forfaitaires'!$E15*(VLOOKUP('Dépenses forfaitaires'!$D15,Listes!$A$54:$E$60,2,FALSE))),IF('Dépenses forfaitaires'!$E15>Listes!$E$53,('Dépenses forfaitaires'!$E15*(VLOOKUP('Dépenses forfaitaires'!$D15,Listes!$A$54:$E$60,5,FALSE))),('Dépenses forfaitaires'!$E15*(VLOOKUP('Dépenses forfaitaires'!$D15,Listes!$A$54:$E$60,3,FALSE)))+(VLOOKUP('Dépenses forfaitaires'!$D15,Listes!$A$54:$E$60,4,FALSE)))))) | O15: =IF($H15="","",IF($C15=Listes!$B$31,IF('Dépenses forfaitaires'!$E15<=Listes!$B$42,('Dépenses forfaitaires'!$E15*(VLOOKUP('Dépenses forfaitaires'!$D15,Listes!$A$43:$E$49,2,FALSE))),IF('Dépenses forfaitaires'!$E15>Listes!$D$42,('Dépenses forfaitaires'!$E15*(VLOOKUP('Dépenses forfaitaires'!$D15,Listes!$A$43:$E$49,5,FALSE))),('Dépenses forfaitaires'!$E15*(VLOOKUP('Dépenses forfaitaires'!$D15,Listes!$A$43:$E$49,3,FALSE)))+(VLOOKUP('Dépenses forfaitaires'!$D15,Listes!$A$43:$E$49,4,FALSE)))))) | P15: =IF($H15="","",IF($C15=Listes!$B$34,Listes!$I$31,IF($C15=Listes!$B$35,(VLOOKUP('Dépenses forfaitaires'!$F15,Listes!$E$31:$F$36,2,FALSE)),IF($C15=Listes!$B$33,IF('Dépenses forfaitaires'!$E15<=Listes!$A$64,'Dépenses forfaitaires'!$E15*Listes!$A$65,IF('Dépenses forfaitaires'!$E15>Listes!$D$64,'Dépenses forfaitaires'!$E15*Listes!$D$65,(('Dépenses forfaitaires'!$E15*Listes!$B$65)+Listes!$C$65))))))) | Q15: =IF($I15="","",($P15+$O15+$N15)*$I15)
A16: 10 | H16: =IF(C16="","",IF(C16="","",(VLOOKUP(C16,Listes!$B$31:$C$35,2,FALSE)))) | I16: =IF(H16="Frais de déplacement (barèmes kilométriques) ",1,"") | M16: =IF(H16="","",IF(H16="","",(VLOOKUP(H16,Listes!$C$31:$D$35,2,FALSE)))) | N16: =IF($H16="","",IF($C16=Listes!$B$32,IF('Dépenses forfaitaires'!$E16<=Listes!$B$53,('Dépenses forfaitaires'!$E16*(VLOOKUP('Dépenses forfaitaires'!$D16,Listes!$A$54:$E$60,2,FALSE))),IF('Dépenses forfaitaires'!$E16>Listes!$E$53,('Dépenses forfaitaires'!$E16*(VLOOKUP('Dépenses forfaitaires'!$D16,Listes!$A$54:$E$60,5,FALSE))),('Dépenses forfaitaires'!$E16*(VLOOKUP('Dépenses forfaitaires'!$D16,Listes!$A$54:$E$60,3,FALSE)))+(VLOOKUP('Dépenses forfaitaires'!$D16,Listes!$A$54:$E$60,4,FALSE)))))) | O16: =IF($H16="","",IF($C16=Listes!$B$31,IF('Dépenses forfaitaires'!$E16<=Listes!$B$42,('Dépenses forfaitaires'!$E16*(VLOOKUP('Dépenses forfaitaires'!$D16,Listes!$A$43:$E$49,2,FALSE))),IF('Dépenses forfaitaires'!$E16>Listes!$D$42,('Dépenses forfaitaires'!$E16*(VLOOKUP('Dépenses forfaitaires'!$D16,Listes!$A$43:$E$49,5,FALSE))),('Dépenses forfaitaires'!$E16*(VLOOKUP('Dépenses forfaitaires'!$D16,Listes!$A$43:$E$49,3,FALSE)))+(VLOOKUP('Dépenses forfaitaires'!$D16,Listes!$A$43:$E$49,4,FALSE)))))) | P16: =IF($H16="","",IF($C16=Listes!$B$34,Listes!$I$31,IF($C16=Listes!$B$35,(VLOOKUP('Dépenses forfaitaires'!$F16,Listes!$E$31:$F$36,2,FALSE)),IF($C16=Listes!$B$33,IF('Dépenses forfaitaires'!$E16<=Listes!$A$64,'Dépenses forfaitaires'!$E16*Listes!$A$65,IF('Dépenses forfaitaires'!$E16>Listes!$D$64,'Dépenses forfaitaires'!$E16*Listes!$D$65,(('Dépenses forfaitaires'!$E16*Listes!$B$65)+Listes!$C$65))))))) | Q16: =IF($I16="","",($P16+$O16+$N16)*$I16)
A17: 11 | H17: =IF(C17="","",IF(C17="","",(VLOOKUP(C17,Listes!$B$31:$C$35,2,FALSE)))) | I17: =IF(H17="Frais de déplacement (barèmes kilométriques) ",1,"") | M17: =IF(H17="","",IF(H17="","",(VLOOKUP(H17,Listes!$C$31:$D$35,2,FALSE)))) | N17: =IF($H17="","",IF($C17=Listes!$B$32,IF('Dépenses forfaitaires'!$E17<=Listes!$B$53,('Dépenses forfaitaires'!$E17*(VLOOKUP('Dépenses forfaitaires'!$D17,Listes!$A$54:$E$60,2,FALSE))),IF('Dépenses forfaitaires'!$E17>Listes!$E$53,('Dépenses forfaitaires'!$E17*(VLOOKUP('Dépenses forfaitaires'!$D17,Listes!$A$54:$E$60,5,FALSE))),('Dépenses forfaitaires'!$E17*(VLOOKUP('Dépenses forfaitaires'!$D17,Listes!$A$54:$E$60,3,FALSE)))+(VLOOKUP('Dépenses forfaitaires'!$D17,Listes!$A$54:$E$60,4,FALSE)))))) | O17: =IF($H17="","",IF($C17=Listes!$B$31,IF('Dépenses forfaitaires'!$E17<=Listes!$B$42,('Dépenses forfaitaires'!$E17*(VLOOKUP('Dépenses forfaitaires'!$D17,Listes!$A$43:$E$49,2,FALSE))),IF('Dépenses forfaitaires'!$E17>Listes!$D$42,('Dépenses forfaitaires'!$E17*(VLOOKUP('Dépenses forfaitaires'!$D17,Listes!$A$43:$E$49,5,FALSE))),('Dépenses forfaitaires'!$E17*(VLOOKUP('Dépenses forfaitaires'!$D17,Listes!$A$43:$E$49,3,FALSE)))+(VLOOKUP('Dépenses forfaitaires'!$D17,Listes!$A$43:$E$49,4,FALSE)))))) | P17: =IF($H17="","",IF($C17=Listes!$B$34,Listes!$I$31,IF($C17=Listes!$B$35,(VLOOKUP('Dépenses forfaitaires'!$F17,Listes!$E$31:$F$36,2,FALSE)),IF($C17=Listes!$B$33,IF('Dépenses forfaitaires'!$E17<=Listes!$A$64,'Dépenses forfaitaires'!$E17*Listes!$A$65,IF('Dépenses forfaitaires'!$E17>Listes!$D$64,'Dépenses forfaitaires'!$E17*Listes!$D$65,(('Dépenses forfaitaires'!$E17*Listes!$B$65)+Listes!$C$65))))))) | Q17: =IF($I17="","",($P17+$O17+$N17)*$I17)
A18: 12 | H18: =IF(C18="","",IF(C18="","",(VLOOKUP(C18,Listes!$B$31:$C$35,2,FALSE)))) | I18: =IF(H18="Frais de déplacement (barèmes kilométriques) ",1,"") | M18: =IF(H18="","",IF(H18="","",(VLOOKUP(H18,Listes!$C$31:$D$35,2,FALSE)))) | N18: =IF($H18="","",IF($C18=Listes!$B$32,IF('Dépenses forfaitaires'!$E18<=Listes!$B$53,('Dépenses forfaitaires'!$E18*(VLOOKUP('Dépenses forfaitaires'!$D18,Listes!$A$54:$E$60,2,FALSE))),IF('Dépenses forfaitaires'!$E18>Listes!$E$53,('Dépenses forfaitaires'!$E18*(VLOOKUP('Dépenses forfaitaires'!$D18,Listes!$A$54:$E$60,5,FALSE))),('Dépenses forfaitaires'!$E18*(VLOOKUP('Dépenses forfaitaires'!$D18,Listes!$A$54:$E$60,3,FALSE)))+(VLOOKUP('Dépenses forfaitaires'!$D18,Listes!$A$54:$E$60,4,FALSE)))))) | O18: =IF($H18="","",IF($C18=Listes!$B$31,IF('Dépenses forfaitaires'!$E18<=Listes!$B$42,('Dépenses forfaitaires'!$E18*(VLOOKUP('Dépenses forfaitaires'!$D18,Listes!$A$43:$E$49,2,FALSE))),IF('Dépenses forfaitaires'!$E18>Listes!$D$42,('Dépenses forfaitaires'!$E18*(VLOOKUP('Dépenses forfaitaires'!$D18,Listes!$A$43:$E$49,5,FALSE))),('Dépenses forfaitaires'!$E18*(VLOOKUP('Dépenses forfaitaires'!$D18,Listes!$A$43:$E$49,3,FALSE)))+(VLOOKUP('Dépenses forfaitaires'!$D18,Listes!$A$43:$E$49,4,FALSE)))))) | P18: =IF($H18="","",IF($C18=Listes!$B$34,Listes!$I$31,IF($C18=Listes!$B$35,(VLOOKUP('Dépenses forfaitaires'!$F18,Listes!$E$31:$F$36,2,FALSE)),IF($C18=Listes!$B$33,IF('Dépenses forfaitaires'!$E18<=Listes!$A$64,'Dépenses forfaitaires'!$E18*Listes!$A$65,IF('Dépenses forfaitaires'!$E18>Listes!$D$64,'Dépenses forfaitaires'!$E18*Listes!$D$65,(('Dépenses forfaitaires'!$E18*Listes!$B$65)+Listes!$C$65))))))) | Q18: =IF($I18="","",($P18+$O18+$N18)*$I18)
... A506: 500 | H506: =IF(C506="","",IF(C506="","",(VLOOKUP(C506,Listes!$B$31:$C$35,2,FALSE)))) | I506: =IF(H506="Frais de déplacement (barèmes kilométriques) ",1,"") | M506: =IF(H506="","",IF(H506="","",(VLOOKUP(H506,Listes!$C$31:$D$35,2,FALSE)))) | N506: =IF($H506="","",IF($C506=Listes!$B$32,IF('Dépenses forfaitaires'!$E506<=Listes!$B$53,('Dépenses forfaitaires'!$E506*(VLOOKUP('Dépenses forfaitaires'!$D506,Listes!$A$54:$E$60,2,FALSE))),IF('Dépenses forfaitaires'!$E506>Listes!$E$53,('Dépenses forfaitaires'!$E506*(VLOOKUP('Dépenses forfaitaires'!$D506,Listes!$A$54:$E$60,5,FALSE))),('Dépenses forfaitaires'!$E506*(VLOOKUP('Dépenses forfaitaires'!$D506,Listes!$A$54:$E$60,3,FALSE)))+(VLOOKUP('Dépenses forfaitaires'!$D506,Listes!$A$54:$E$60,4,FALSE)))))) | O506: =IF($H506="","",IF($C506=Listes!$B$31,IF('Dépenses forfaitaires'!$E506<=Listes!$B$42,('Dépenses forfaitaires'!$E506*(VLOOKUP('Dépenses forfaitaires'!$D506,Listes!$A$43:$E$49,2,FALSE))),IF('Dépenses forfaitaires'!$E506>Listes!$D$42,('Dépenses forfaitaires'!$E506*(VLOOKUP('Dépenses forfaitaires'!$D506,Listes!$A$43:$E$49,5,FALSE))),('Dépenses forfaitaires'!$E506*(VLOOKUP('Dépenses forfaitaires'!$D506,Listes!$A$43:$E$49,3,FALSE)))+(VLOOKUP('Dépenses forfaitaires'!$D506,Listes!$A$43:$E$49,4,FALSE)))))) | P506: =IF($H506="","",IF($C506=Listes!$B$34,Listes!$I$31,IF($C506=Listes!$B$35,(VLOOKUP('Dépenses forfaitaires'!$F506,Listes!$E$31:$F$36,2,FALSE)),IF($C506=Listes!$B$33,IF('Dépenses forfaitaires'!$E506<=Listes!$A$64,'Dépenses forfaitaires'!$E506*Listes!$A$65,IF('Dépenses forfaitaires'!$E506>Listes!$D$64,'Dépenses forfaitaires'!$E506*Listes!$D$65,(('Dépenses forfaitaires'!$E506*Listes!$B$65)+Listes!$C$65))))))) | Q506: =IF($I506="","",($P506+$O506+$N506)*$I506)
M507: TOTAL | Q507: =SUM(Q7:Q506) -> 0

Sheet Synthèse dépenses SI
A9: FEADER 2023-2027 MAYOTTE Fiche Intervention 77.07 - SOUTIEN AUX PROJETS PILOTES ET DEVELOPPEMENT DE NOUVEAUX PRODUITS, PRATIQUES, PROCEDES ET TECHNIQUES
A10: Nom ou raison sociale du porteur de projet | E10: ='Synthèse dépenses bénéficiaire'!E10:J10 -> 0
A11: Intitulé du projet | E11: ='Synthèse dépenses bénéficiaire'!E11:J11 -> 0
A12: N°dossier SAFRAN | E12: ='Synthèse dépenses bénéficiaire'!E12:J12 -> 0
A13: Demande de Paiement | E13: ='Synthèse dépenses bénéficiaire'!E13 -> 0
A14: Synthèse des dépenses liées au projet présenté
B16: Contrôle Bloquant
B17: =IF('DP_Instruction factures SI'!N4="","","Une ou plusieurs lignes ne sont pas instruites_Onglet DP Instruction sur factures SI")
B18: =IF('DP_Instruction rémunération SI'!U4="","","Une ou plusieurs lignes ne sont pas instruites_Onglet DP Instruction rémunération SI")
B19: =IF('DP_Instruction frais réels'!O4="","","Une ou plusieurs lignes ne sont pas instruites_Onglet DP Instruction frais réels")
B20: =IF('DP_Instruction Forfaitaires'!U4="","","Une ou plusieurs lignes ne sont pas instruites_Onglet DP Instruction forfaitaires")
B22: Type de dépenses | C22: Montant présenté | D22: Montant éligible | E22: Montant éligible retenu après règle de plafond | F22: Montant écarté
B23: Dépenses sur factures | C23: =IF(OR($B$17<>"",$B$18<>"",$B$19<>"",$B$20<>""),0,J57) -> 0 | D23: =IF(OR($B$17<>"",$B$18<>"",$B$19<>"",$B$20<>""),0,K57) -> 0 | E23: =IF(OR($B$17<>"",$B$18<>"",$B$19<>"",$B$20<>""),0,L57) -> 0 | F23: =IF(C23-E23<=0,0,C23-E23) -> 0
B24: Dépenses sur frais de personnel | C24: =IF(OR($B$17<>"",$B$18<>"",$B$19<>"",$B$20<>""),0,J63) -> 0 | D24: =IF(OR($B$17<>"",$B$18<>"",$B$19<>"",$B$20<>""),0,K63) -> 0 | E24: =IF(OR($B$17<>"",$B$18<>"",$B$19<>"",$B$20<>""),0,L63) -> 0 | F24: =IF(C24-E24<=0,0,C24-E24) -> 0
B25: Dépenses sur frais de structures | C25: =IF(OR($B$17<>"",$B$18<>"",$B$19<>"",$B$20<>""),0,J68) -> 0 | D25: =IF(OR($B$17<>"",$B$18<>"",$B$19<>"",$B$20<>""),0,K68) -> 0 | E25: =IF(OR($B$17<>"",$B$18<>"",$B$19<>"",$B$20<>""),0,L68) -> 0 | F25: =IF(C25-E25<=0,0,C25-E25) -> 0
B26: Dépenses sur frais réels | C26: =IF(OR($B$17<>"",$B$18<>"",$B$19<>"",$B$20<>""),0,J70) -> 0 | D26: =IF(OR($B$17<>"",$B$18<>"",$B$19<>"",$B$20<>""),0,K70) -> 0 | E26: =IF(OR($B$17<>"",$B$18<>"",$B$19<>"",$B$20<>""),0,L70) -> 0 | F26: =IF(C26-E26<=0,0,C26-E26) -> 0
B27: Dépenses forfaitaires | C27: =IF(OR($B$17<>"",$B$18<>"",$B$19<>"",$B$20<>""),0,J73) -> 0 | D27: =IF(OR($B$17<>"",$B$18<>"",$B$19<>"",$B$20<>""),0,K73) -> 0 | E27: =IF(OR($B$17<>"",$B$18<>"",$B$19<>"",$B$20<>""),0,L73) -> 0 | F27: =IF(C27-E27<=0,0,C27-E27) -> 0
B28: Total | C28: =SUM(C23:C27) -> 0 | D28: =SUM(D23:D27) -> 0 | E28: =SUM(E23:E27) -> 0 | F28: =SUM(F23:F27) -> 0
B31: DP en cours : répartition des dépenses de transfert et hors-transfert
B32: Catégories de dépenses et Sous-catégories de dépenses | C32: Montant "Transfert" | D32: Montant "Hors-Transfert" | E32: Montant "Transfert" après plafond achats de matériel | F32: Montant "Hors-Transfert" après plafond achats de matériel
B33: Dépenses sur factures - autres | C33: =SUMIFS('DP_Instruction factures SI'!$M$7:$M$506,'DP_Instruction factures SI'!$F$7:$F$506,"Transfert") -> 0 | D33: =SUMIFS('DP_Instruction factures SI'!$M$7:$M$506,'DP_Instruction factures SI'!$F$7:$F$506,"Hors-Transfert") -> 0 | E33: =SUM(E34:E38) -> 0 | F33: =SUM(F34:F38) -> 0
B34: Publicité européenne | C34: =SUMIFS('DP_Instruction factures SI'!$M$7:$M$506,'DP_Instruction factures SI'!$F$7:$F$506,"Transfert",'DP_Instruction factures SI'!$E$7:$E$506,"Publicité européenne") -> 0 | D34: =SUMIFS('DP_Instruction factures SI'!$M$7:$M$506,'DP_Instruction factures SI'!$F$7:$F$506,"Hors-Transfert",'DP_Instruction factures SI'!$E$7:$E$506,"Publicité européenne") -> 0 | E34: =SUMIFS('DP_Instruction factures SI'!$M$7:$M$506,'DP_Instruction factures SI'!$F$7:$F$506,"Transfert",'DP_Instruction factures SI'!$E$7:$E$506,"Publicité européenne") -> 0 | F34: =SUMIFS('DP_Instruction factures SI'!$M$7:$M$506,'DP_Instruction factures SI'!$F$7:$F$506,"Hors-Transfert",'DP_Instruction factures SI'!$E$7:$E$506,"Publicité européenne") -> 0
B35: Achat de matériel | C35: =SUMIFS('DP_Instruction factures SI'!$M$7:$M$506,'DP_Instruction factures SI'!$F$7:$F$506,"Transfert",'DP_Instruction factures SI'!$E$7:$E$506,"Achat de matériel") -> 0 | D35: =SUMIFS('DP_Instruction factures SI'!$M$7:$M$506,'DP_Instruction factures SI'!$F$7:$F$506,"Hors-Transfert",'DP_Instruction factures SI'!$E$7:$E$506,"Achat de matériel") -> 0 | E35: =IF(K59=0,0,MIN(C35,P58*(1-D35/K59))) -> 0 | F35: =IF(K59=0,0,MIN(D35,P58*(D35/K59))) -> 0
B36: Achat de prestation | C36: =SUMIFS('DP_Instruction factures SI'!$M$7:$M$506,'DP_Instruction factures SI'!$F$7:$F$506,"Transfert",'DP_Instruction factures SI'!$E$7:$E$506,"Achat de prestation ") -> 0 | D36: =SUMIFS('DP_Instruction factures SI'!$M$7:$M$506,'DP_Instruction factures SI'!$F$7:$F$506,"Hors-Transfert",'DP_Instruction factures SI'!$E$7:$E$506,"Achat de prestation ") -> 0 | E36: =SUMIFS('DP_Instruction factures SI'!$M$7:$M$506,'DP_Instruction factures SI'!$F$7:$F$506,"Transfert",'DP_Instruction factures SI'!$E$7:$E$506,"Achat de prestation ") -> 0 | F36: =SUMIFS('DP_Instruction factures SI'!$M$7:$M$506,'DP_Instruction factures SI'!$F$7:$F$506,"Hors-Transfert",'DP_Instruction factures SI'!$E$7:$E$506,"Achat de prestation ") -> 0
B37: Communication et promotion | C37: =SUMIFS('DP_Instruction factures SI'!$M$7:$M$506,'DP_Instruction factures SI'!$F$7:$F$506,"Transfert",'DP_Instruction factures SI'!$E$7:$E$506,"Communication et promotion") -> 0 | D37: =SUMIFS('DP_Instruction factures SI'!$M$7:$M$506,'DP_Instruction factures SI'!$F$7:$F$506,"Hors-Transfert",'DP_Instruction factures SI'!$E$7:$E$506,"Communication et promotion") -> 0 | E37: =SUMIFS('DP_Instruction factures SI'!$M$7:$M$506,'DP_Instruction factures SI'!$F$7:$F$506,"Transfert",'DP_Instruction factures SI'!$E$7:$E$506,"Communication et promotion") -> 0 | F37: =SUMIFS('DP_Instruction factures SI'!$M$7:$M$506,'DP_Instruction factures SI'!$F$7:$F$506,"Hors-Transfert",'DP_Instruction factures SI'!$E$7:$E$506,"Communication et promotion") -> 0
B38: Etude préalable | C38: =SUMIFS('DP_Instruction factures SI'!$M$7:$M$506,'DP_Instruction factures SI'!$F$7:$F$506,"Transfert",'DP_Instruction factures SI'!$E$7:$E$506,"Etude préalable") -> 0 | D38: =SUMIFS('DP_Instruction factures SI'!$M$7:$M$506,'DP_Instruction factures SI'!$F$7:$F$506,"Hors-Transfert",'DP_Instruction factures SI'!$E$7:$E$506,"Etude préalable") -> 0 | E38: =SUMIFS('DP_Instruction factures SI'!$M$7:$M$506,'DP_Instruction factures SI'!$F$7:$F$506,"Transfert",'DP_Instruction factures SI'!$E$7:$E$506,"Etude préalable") -> 0 | F38: =SUMIFS('DP_Instruction factures SI'!$M$7:$M$506,'DP_Instruction factures SI'!$F$7:$F$506,"Hors-Transfert",'DP_Instruction factures SI'!$E$7:$E$506,"Etude préalable") -> 0
B39: Dépenses sur frais de personnel | C39: =SUMIFS('DP_Instruction rémunération SI'!$X$7:$X$506,'DP_Instruction rémunération SI'!$F$7:$F$506,"Transfert") -> 0 | D39: =SUMIFS('DP_Instruction rémunération SI'!$X$7:$X$506,'DP_Instruction rémunération SI'!$F$7:$F$506,"Hors-Transfert") -> 0 | E39: =SUM(E40:E43) -> 0 | F39: =SUM(F40:F43) -> 0
B40: Salaire_chercheur | C40: =SUMIFS('DP_Instruction rémunération SI'!$X$7:$X$506,'DP_Instruction rémunération SI'!$F$7:$F$506,"Transfert",'DP_Instruction rémunération SI'!$E$7:$E$506,"Salaire_chercheur") -> 0 | D40: =SUMIFS('DP_Instruction rémunération SI'!$X$7:$X$506,'DP_Instruction rémunération SI'!$F$7:$F$506,"Hors-Transfert",'DP_Instruction rémunération SI'!$E$7:$E$506,"Salaire_chercheur") -> 0 | E40: =SUMIFS('DP_Instruction rémunération SI'!$X$7:$X$506,'DP_Instruction rémunération SI'!$F$7:$F$506,"Transfert",'DP_Instruction rémunération SI'!$E$7:$E$506,"Salaire_chercheur") -> 0 | F40: =SUMIFS('DP_Instruction rémunération SI'!$X$7:$X$506,'DP_Instruction rémunération SI'!$F$7:$F$506,"Hors-Transfert",'DP_Instruction rémunération SI'!$E$7:$E$506,"Salaire_chercheur") -> 0
B41: Salaire_directeur | C41: =SUMIFS('DP_Instruction rémunération SI'!$X$7:$X$506,'DP_Instruction rémunération SI'!$F$7:$F$506,"Transfert",'DP_Instruction rémunération SI'!$E$7:$E$506,"Salaire_directeur") -> 0 | D41: =SUMIFS('DP_Instruction rémunération SI'!$X$7:$X$506,'DP_Instruction rémunération SI'!$F$7:$F$506,"Hors-Transfert",'DP_Instruction rémunération SI'!$E$7:$E$506,"Salaire_directeur") -> 0 | E41: =SUMIFS('DP_Instruction rémunération SI'!$X$7:$X$506,'DP_Instruction rémunération SI'!$F$7:$F$506,"Transfert",'DP_Instruction rémunération SI'!$E$7:$E$506,"Salaire_directeur") -> 0 | F41: =SUMIFS('DP_Instruction rémunération SI'!$X$7:$X$506,'DP_Instruction rémunération SI'!$F$7:$F$506,"Hors-Transfert",'DP_Instruction rémunération SI'!$E$7:$E$506,"Salaire_directeur") -> 0
B42: Salaire_ingénieur | C42: =SUMIFS('DP_Instruction rémunération SI'!$X$7:$X$506,'DP_Instruction rémunération SI'!$F$7:$F$506,"Transfert",'DP_Instruction rémunération SI'!$E$7:$E$506,"Salaire_ingénieur") -> 0 | D42: =SUMIFS('DP_Instruction rémunération SI'!$X$7:$X$506,'DP_Instruction rémunération SI'!$F$7:$F$506,"Hors-Transfert",'DP_Instruction rémunération SI'!$E$7:$E$506,"Salaire_ingénieur") -> 0 | E42: =SUMIFS('DP_Instruction rémunération SI'!$X$7:$X$506,'DP_Instruction rémunération SI'!$F$7:$F$506,"Transfert",'DP_Instruction rémunération SI'!$E$7:$E$506,"Salaire_ingénieur") -> 0 | F42: =SUMIFS('DP_Instruction rémunération SI'!$X$7:$X$506,'DP_Instruction rémunération SI'!$F$7:$F$506,"Hors-Transfert",'DP_Instruction rémunération SI'!$E$7:$E$506,"Salaire_ingénieur") -> 0
B43: Salaire_technicien | C43: =SUMIFS('DP_Instruction rémunération SI'!$X$7:$X$506,'DP_Instruction rémunération SI'!$F$7:$F$506,"Transfert",'DP_Instruction rémunération SI'!$E$7:$E$506,"Salaire_technicien") -> 0 | D43: =SUMIFS('DP_Instruction rémunération SI'!$X$7:$X$506,'DP_Instruction rémunération SI'!$F$7:$F$506,"Hors-Transfert",'DP_Instruction rémunération SI'!$E$7:$E$506,"Salaire_technicien") -> 0 | E43: =SUMIFS('DP_Instruction rémunération SI'!$X$7:$X$506,'DP_Instruction rémunération SI'!$F$7:$F$506,"Transfert",'DP_Instruction rémunération SI'!$E$7:$E$506,"Salaire_technicien") -> 0 | F43: =SUMIFS('DP_Instruction rémunération SI'!$X$7:$X$506,'DP_Instruction rémunération SI'!$F$7:$F$506,"Hors-Transfert",'DP_Instruction rémunération SI'!$E$7:$E$506,"Salaire_technicien") -> 0
B44: Dépenses sur frais de structure | C44: =C45 -> 0 | D44: =D45 -> 0 | E44: =E45 -> 0 | F44: =F45 -> 0
B45: 15% des frais de personnel | C45: =IF(K69=0,0,C39*0.15) -> 0 | D45: =IF(K69=0,0,D39*0.15) -> 0 | E45: =IF(K69=0,0,E39*0.15) -> 0 | F45: =IF(K69=0,0,F39*0.15) -> 0
B46: Déplacements sur frais réels | C46: =SUMIFS('DP_Instruction frais réels'!$R$7:$R$506,'DP_Instruction frais réels'!$F$7:$F$506,"Transfert") -> 0 | D46: =SUMIFS('DP_Instruction frais réels'!$R$7:$R$506,'DP_Instruction frais réels'!$F$7:$F$506,"Hors-Transfert") -> 0 | E46: =SUM(E47:E48) -> 0 | F46: =SUM(F47:F48) -> 0
B47: Billets d'avion | C47: =SUMIFS('DP_Instruction frais réels'!$R$7:$R$506,'DP_Instruction frais réels'!$F$7:$F$506,"Transfert",'DP_Instruction frais réels'!$E$7:$E$506,"Billets d'avion") -> 0 | D47: =SUMIFS('DP_Instruction frais réels'!$R$7:$R$506,'DP_Instruction frais réels'!$F$7:$F$506,"Hors-Transfert",'DP_Instruction frais réels'!$E$7:$E$506,"Billets d'avion") -> 0 | E47: =SUMIFS('DP_Instruction frais réels'!$R$7:$R$506,'DP_Instruction frais réels'!$F$7:$F$506,"Transfert",'DP_Instruction frais réels'!$E$7:$E$506,"Billets d'avion") -> 0 | F47: =SUMIFS('DP_Instruction frais réels'!$R$7:$R$506,'DP_Instruction frais réels'!$F$7:$F$506,"Hors-Transfert",'DP_Instruction frais réels'!$E$7:$E$506,"Billets d'avion") -> 0
B48: Billets de train | C48: =SUMIFS('DP_Instruction frais réels'!$R$7:$R$506,'DP_Instruction frais réels'!$F$7:$F$506,"Transfert",'DP_Instruction frais réels'!$E$7:$E$506,"Billets de train") -> 0 | D48: =SUMIFS('DP_Instruction frais réels'!$R$7:$R$506,'DP_Instruction frais réels'!$F$7:$F$506,"Hors-Transfert",'DP_Instruction frais réels'!$E$7:$E$506,"Billets de train") -> 0 | E48: =SUMIFS('DP_Instruction frais réels'!$R$7:$R$506,'DP_Instruction frais réels'!$F$7:$F$506,"Transfert",'DP_Instruction frais réels'!$E$7:$E$506,"Billets de train") -> 0 | F48: =SUMIFS('DP_Instruction frais réels'!$R$7:$R$506,'DP_Instruction frais réels'!$F$7:$F$506,"Hors-Transfert",'DP_Instruction frais réels'!$E$7:$E$506,"Billets de train") -> 0
B49: Dépenses forfaitaires | C49: =SUMIFS('DP_Instruction Forfaitaires'!$T$7:$T$506,'DP_Instruction Forfaitaires'!$J$7:$J$506,"Transfert") -> 0 | D49: =SUMIFS('DP_Instruction Forfaitaires'!$T$7:$T$506,'DP_Instruction Forfaitaires'!$J$7:$J$506,"Hors-Transfert") -> 0 | E49: =SUM(E50:E52) -> 0 | F49: =SUM(F50:F52) -> 0
B50: Frais de déplacement (barèmes kilométriques) | C50: =SUMIFS('DP_Instruction Forfaitaires'!$T$7:$T$506,'DP_Instruction Forfaitaires'!$J$7:$J$506,"Transfert",'DP_Instruction Forfaitaires'!$H$7:$H$506,"Frais de déplacement (barèmes kilométriques) ") -> 0 | D50: =SUMIFS('DP_Instruction Forfaitaires'!$T$7:$T$506,'DP_Instruction Forfaitaires'!$J$7:$J$506,"Hors-Transfert",'DP_Instruction Forfaitaires'!$H$7:$H$506,"Frais de déplacement (barèmes kilométriques) ") -> 0 | E50: =SUMIFS('DP_Instruction Forfaitaires'!$T$7:$T$506,'DP_Instruction Forfaitaires'!$J$7:$J$506,"Transfert",'DP_Instruction Forfaitaires'!$H$7:$H$506,"Frais de déplacement (barèmes kilométriques) ") -> 0 | F50: =SUMIFS('DP_Instruction Forfaitaires'!$T$7:$T$506,'DP_Instruction Forfaitaires'!$J$7:$J$506,"Hors-Transfert",'DP_Instruction Forfaitaires'!$H$7:$H$506,"Frais de déplacement (barèmes kilométriques) ") -> 0
B51: Frais d'hébergement | C51: =SUMIFS('DP_Instruction Forfaitaires'!$T$7:$T$506,'DP_Instruction Forfaitaires'!$J$7:$J$506,"Transfert",'DP_Instruction Forfaitaires'!$H$7:$H$506,"Frais d'hébergement") -> 0 | D51: =SUMIFS('DP_Instruction Forfaitaires'!$T$7:$T$506,'DP_Instruction Forfaitaires'!$J$7:$J$506,"Hors-Transfert",'DP_Instruction Forfaitaires'!$H$7:$H$506,"Frais d'hébergement") -> 0 | E51: =SUMIFS('DP_Instruction Forfaitaires'!$T$7:$T$506,'DP_Instruction Forfaitaires'!$J$7:$J$506,"Transfert",'DP_Instruction Forfaitaires'!$H$7:$H$506,"Frais d'hébergement") -> 0 | F51: =SUMIFS('DP_Instruction Forfaitaires'!$T$7:$T$506,'DP_Instruction Forfaitaires'!$J$7:$J$506,"Hors-Transfert",'DP_Instruction Forfaitaires'!$H$7:$H$506,"Frais d'hébergement") -> 0
B52: Frais de restauration | C52: =SUMIFS('DP_Instruction Forfaitaires'!$T$7:$T$506,'DP_Instruction Forfaitaires'!$J$7:$J$506,"Transfert",'DP_Instruction Forfaitaires'!$H$7:$H$506,"Frais de restauration") -> 0 | D52: =SUMIFS('DP_Instruction Forfaitaires'!$T$7:$T$506,'DP_Instruction Forfaitaires'!$J$7:$J$506,"Hors-Transfert",'DP_Instruction Forfaitaires'!$H$7:$H$506,"Frais de restauration") -> 0 | E52: =SUMIFS('DP_Instruction Forfaitaires'!$T$7:$T$506,'DP_Instruction Forfaitaires'!$J$7:$J$506,"Transfert",'DP_Instruction Forfaitaires'!$H$7:$H$506,"Frais de restauration") -> 0 | F52: =SUMIFS('DP_Instruction Forfaitaires'!$T$7:$T$506,'DP_Instruction Forfaitaires'!$J$7:$J$506,"Hors-Transfert",'DP_Instruction Forfaitaires'!$H$7:$H$506,"Frais de restauration") -> 0
...

Sheet DP_Instruction factures SI
A1: Service Instructeur
A2: Dépenses sur Factures Les colonnes marquées d'un " * " sont à remplir obligatoirement pour chaque ligne de dépense. Merci de ne pas modifier ce document.
A3: N° | B3: Description de la dépense * | C3: Dénomination du fournisseur * | D3: Identifiant du justificatif * | E3: Sous catégories de dépenses * | F3: Type de transfert * | G3: Date d'émission * | H3: Date d'acquittement * | I3: Montant HT présenté * | J3: Contrôle Date * | K3: Date d'émission * | L3: Date d'acquittement * | M3: Montant éligible (€ HT) * | N3: Motif inéligibilité | O3: Commentaire instructeur | P3: Message informatif | Q3: Ligne Instruite
B4: (nature de la dépense indiquée sur le justificatif de dépense. Ex : désignation de l'article, de l'objet…) | C4: (nom de l'entreprise, de la structure émettrice du justificatif) | D4: (information présente sur le justificatif joint. Ex: numéro de facture,...) | E4: Sélectionner la sous catégorie de dépenses | F4: Choisissez "Transfert" ou "Hors-Transfert" | G4: Date d'émission du justificatif | H4: Date d'acquittement du justificatif | I4: (montant hors taxes de la facture, en euros) | N4: =IF(R6>0,"Une ou plusieurs lignes ne sont pas instruites","")
A5: Exemple | B5: Imprimante | C5: Design Print | D5: 20240223-0001 | E5: Equipement bureau | F5: Transfert | G5: 45689 | H5: 45747 | I5: 2850 | J5: OK | K5: 45751 | L5: 45782 | M5: 2375 | N5: TVA inéligible | O5: La TVA est inéligible sur le PSN à Mayotte | Q5: Oui | R5: CRTL
H6: Total | I6: =SUM(I7:I506) -> 0 | L6: Total | M6: =SUM(M7:M506) -> 0 | R6: =SUM(R7:R506) -> 0
A7: 1 | B7: =IF('Dépenses sur factures'!B7="","",'Dépenses sur factures'!B7) | C7: =IF('Dépenses sur factures'!C7="","",'Dépenses sur factures'!C7) | D7: =IF('Dépenses sur factures'!D7="","",'Dépenses sur factures'!D7) | E7: =IF('Dépenses sur factures'!E7="","",'Dépenses sur factures'!E7) | F7: =IF('Dépenses sur factures'!F7="","",'Dépenses sur factures'!F7) | G7: =IF('Dépenses sur factures'!G7="","",'Dépenses sur factures'!G7) | H7: =IF('Dépenses sur factures'!H7="","",'Dépenses sur factures'!H7) | I7: =IF('Dépenses sur factures'!I7="","",'Dépenses sur factures'!I7) | K7: =IF(J7="KO","",IF(J7="","",G7)) | L7: =IF(J7="KO","",IF(J7="","",H7)) | P7: =IF(AND(OR(J7="KO",M7<>""),OR(J7="",K7="",L7="")),Listes!$A$68,IF(AND(M7="",J7<>""),Listes!$A$69,IF(AND(I7<M7,O7=""),Listes!$A$70,IF(AND(L7<K7,O7=""),Listes!$A$71,IF(AND(M7<>"",M7<I7,N7=""),Listes!$A$72,IF(AND(Q7="",OR(J7<>"",K7<>"",L7<>"")),Listes!$A$73,"")))))) | R7: =IF(AND(B7<>"",Q7<>"Oui"),1,0) -> 0
A8: 2 | B8: =IF('Dépenses sur factures'!B8="","",'Dépenses sur factures'!B8) | C8: =IF('Dépenses sur factures'!C8="","",'Dépenses sur factures'!C8) | D8: =IF('Dépenses sur factures'!D8="","",'Dépenses sur factures'!D8) | E8: =IF('Dépenses sur factures'!E8="","",'Dépenses sur factures'!E8) | F8: =IF('Dépenses sur factures'!F8="","",'Dépenses sur factures'!F8) | G8: =IF('Dépenses sur factures'!G8="","",'Dépenses sur factures'!G8) | H8: =IF('Dépenses sur factures'!H8="","",'Dépenses sur factures'!H8) | I8: =IF('Dépenses sur factures'!I8="","",'Dépenses sur factures'!I8) | K8: =IF(J8="KO","",IF(J8="","",G8)) | L8: =IF(J8="KO","",IF(J8="","",H8)) | P8: =IF(AND(OR(J8="KO",M8<>""),OR(J8="",K8="",L8="")),Listes!$A$68,IF(AND(M8="",J8<>""),Listes!$A$69,IF(AND(I8<M8,O8=""),Listes!$A$70,IF(AND(L8<K8,O8=""),Listes!$A$71,IF(AND(M8<>"",M8<I8,N8=""),Listes!$A$72,IF(AND(Q8="",OR(J8<>"",K8<>"",L8<>"")),Listes!$A$73,"")))))) | R8: =IF(AND(B8<>"",Q8<>"Oui"),1,0) -> 0
