Workbook

Sheet Notice
A9: Fiche Intervention FEADER 2023-2027 MAYOTTE 73.02 - INVESTISSEMENTS AGRICOLES NON PRODUCTIFS : PLANTONS DES HAIES
A12: Consignes d'utilisation
A13: Chaque colonne avec un " * " doivent etre obligatoirement rempli. Une zone de commentaire est présente et nous vous invitons à l'utiliser le plus souvent.
D14: Merci de consulter le guide du bénéficiaire et la notice transversale à la demande d'aide au lien suivant : | M14: https://daaf.mayotte.agriculture.gouv.fr/guide-du-beneficiaire-et-notice-transversale-a618.html
A16: Attention : les dossiers dont le montant total est inférieur à 5 375 € après instruction ne seront pas retenus. Il est également à noter que le montant de la subvention FEADER est plafonné à 250 000 € par dossier.
A18: Si vous n'avez pas Excel, ce document peut etre utilisé avec LibreOffice. Une fois le dossier complété, merci de le déposer au format Excel sur Safran.
A21: Rappels réglementaires
A22: Dépenses forfaitaires
I24: Catégories de dépenses | P24: Montant du forfait
I25: Forfait 1 | L25: Comprenant le déblaiement post Chido pour permettre l’implantation de la haie, un débroussaillage post Chido, un piquetage et la réalisation des trous | P25: 10€ / ml
I26: Forfait 2 | L26: Fournitures des plants et plantation, arrosage | P26: 9€ / ml
I27: Forfait 3 | L27: Deux entretiens obligatoires en 2027 et 2028 * | P27: 5,5 € /ml
I28: * Pour chaque projet, le porteur de projet a l'obligation d'entretenir les plants deux fois

Sheet Synthèse forfaits bénéficiaire
A9: Fiche Intervention FEADER 2023-2027 MAYOTTE 73.02 - INVESTISSEMENTS AGRICOLES NON PRODUCTIFS : PLANTONS DES HAIES
A10: Nom ou raison sociale du porteur de projet
A11: Intitulé du projet
A12: Synthèse des forfaits présentées
B15: Nombre de bénéficiaires | C15: =IF(COUNTA(Forfaits!C6:C50)=0,"",COUNTA(Forfaits!C6:C50)) | E15: Type de forfait | F15: Nb de ml | G15: Montant demandé
B16: Montant total Forfait | C16: =IF(G19=0,"",G19) | E16: Forfait 1 | F16: =IF(Forfaits!E51=0,"",Forfaits!E51) | G16: =IF(F16="","",F16*Réf!B2)
E17: Forfait 2 | F17: =IF(Forfaits!F51=0,"",Forfaits!F51) | G17: =IF(F17="","",F17*Réf!B3)
E18: Forfait 3 | F18: =IF(Forfaits!G51=0,"",Forfaits!G51) | G18: =IF(F18="","",F18*Réf!B4)
E19: Total | G19: =SUM(G16:G18) -> 0

Sheet Forfaits
A1: DEMANDEUR
A2: Dépenses forfaitaire Les colonnes marquées d'un " * " sont à remplir obligatoirement pour chaque ligne de dépense. Merci de ne pas modifier ce document.
A3: N° | B3: Nom du bénéficiaire final * | C3: N° SIRET bénéficiciare final * | D3: N° PACAGE * | E3: Nombre de ml Forfait 1 | F3: Nombre de ml Forfait 2 | G3: Nombre de ml Forfait 3 | H3: Montant demandé | I3: Commentaires
E4: (10€/ml) | F4: (9€/ml) | G4: (5,5€/ml) | I4: (le cas échéant, pour préciser un point saillant au Service Instructeur)
A5: Exemple | B5: ABDOU Mariame | C5: 12345678900014 | D5: 9760002 | E5: 300 | F5: 150 | G5: 150 | H5: 5175
A6: 1 | H6: =E6*Réf!$B$2+Forfaits!F6*Réf!$B$3+Forfaits!G6*Réf!$B$4 -> 0
A7: 2 | H7: =E7*Réf!$B$2+Forfaits!F7*Réf!$B$3+Forfaits!G7*Réf!$B$4 -> 0
A8: 3 | H8: =E8*Réf!$B$2+Forfaits!F8*Réf!$B$3+Forfaits!G8*Réf!$B$4 -> 0
A9: 4 | H9: =E9*Réf!$B$2+Forfaits!F9*Réf!$B$3+Forfaits!G9*Réf!$B$4 -> 0
A10: 5 | H10: =E10*Réf!$B$2+Forfaits!F10*Réf!$B$3+Forfaits!G10*Réf!$B$4 -> 0
A11: 6 | H11: =E11*Réf!$B$2+Forfaits!F11*Réf!$B$3+Forfaits!G11*Réf!$B$4 -> 0
A12: 7 | H12: =E12*Réf!$B$2+Forfaits!F12*Réf!$B$3+Forfaits!G12*Réf!$B$4 -> 0
A13: 8 | H13: =E13*Réf!$B$2+Forfaits!F13*Réf!$B$3+Forfaits!G13*Réf!$B$4 -> 0
A14: 9 | H14: =E14*Réf!$B$2+Forfaits!F14*Réf!$B$3+Forfaits!G14*Réf!$B$4 -> 0
A15: 10 | H15: =E15*Réf!$B$2+Forfaits!F15*Réf!$B$3+Forfaits!G15*Réf!$B$4 -> 0
A16: 11 | H16: =E16*Réf!$B$2+Forfaits!F16*Réf!$B$3+Forfaits!G16*Réf!$B$4 -> 0
A17: 12 | H17: =E17*Réf!$B$2+Forfaits!F17*Réf!$B$3+Forfaits!G17*Réf!$B$4 -> 0
... A50: 45 | H50: =E50*Réf!$B$2+Forfaits!F50*Réf!$B$3+Forfaits!G50*Réf!$B$4 -> 0
C51: TOTAL | E51: =SUM(E6:E50) -> 0 | F51: =SUM(F6:F50) -> 0 | G51: =SUM(G6:G50) -> 0 | H51: =SUM(H6:H50) -> 0

Sheet Synthèse instruction
A9: Fiche Intervention FEADER 2023-2027 MAYOTTE 73.02 - INVESTISSEMENTS AGRICOLES NON PRODUCTIFS : PLANTONS DES HAIES
A10: Nom ou raison sociale du porteur de projet | F10: =IF('Synthèse forfaits bénéficiaire'!F10:I10="","",'Synthèse forfaits bénéficiaire'!F10:I10)
A11: Intitulé du projet | F11: =IF('Synthèse forfaits bénéficiaire'!F11:I11="","",'Synthèse forfaits bénéficiaire'!F11:I11)
A12: Synthèse des forfaits liées au projet présenté
B15: Synthèse forfait en mètre linéaire (ml)
B16: Type de forfait | C16: Nombre de ml présenté | D16: Nombre de ml éligible retenu | E16: Nombre de ml écarté
B17: Forfait 1 | C17: =IF(Forfaits!E51=0,"",Forfaits!E51) | D17: =IF('Instruction Forfaits '!I51=0,"",'Instruction Forfaits '!I51) | E17: =IF(C17="","",C17-D17)
B18: Forfait 2 | C18: =IF(Forfaits!F51=0,"",Forfaits!F51) | D18: =IF('Instruction Forfaits '!J51=0,"",'Instruction Forfaits '!J51) | E18: =IF(C18="","",C18-D18)
B19: Forfait 3 | C19: =IF(Forfaits!G51=0,"",Forfaits!G51) | D19: =IF('Instruction Forfaits '!K51=0,"",'Instruction Forfaits '!K51) | E19: =IF(C19="","",C19-D19)
B22: Synthèse forfait en montant (€)
B23: Type de forfait | C23: Montant présenté | D23: Montant éligible retenu | E23: Montant écarté
B24: Forfait 1 | C24: =IF(C17="","",C17*Réf!B2) | D24: =IF(D17="","",D17*Réf!B2) | E24: =IF(C24="","",C24-D24)
B25: Forfait 2 | C25: =IF(C18="","",C18*Réf!B3) | D25: =IF(D18="","",D18*Réf!B3) | E25: =IF(C25="","",C25-D25)
B26: Forfait 3 | C26: =IF(C19="","",C19*Réf!B4) | D26: =IF(D19="","",D19*Réf!B4) | E26: =IF(C26="","",C26-D26)
B27: Total | C27: =SUM(C24:C26) -> 0 | D27: =SUM(D24:D26) -> 0 | E27: =SUM(E24:E26) -> 0
B30: Tableau à recopier dans Safran
B32: Type de forfait | C32: Nbr de ml éligible retenu
B33: Forfait 1 | C33: =+D17
B34: Forfait 2 | C34: =+D18
B35: Forfait 3 | C35: =+D19

Sheet Instruction Forfaits 
A1: Service Instruction
A2: Dépenses forfaitaire Les colonnes marquées d'un " * " sont à remplir obligatoirement pour chaque ligne de dépense. Merci de ne pas modifier ce document.
A3: N° | B3: Nom du bénéficiaire final | C3: N° SIRET bénéficiciare final | D3: N° PACAGE | E3: Nombre de ml Forfait 1 | F3: Nombre de ml Forfait 2 | G3: Nombre de ml Forfait 3 | H3: Montant demandé | I3: Forfait 1* | J3: Forfait 2* | K3: Forfait 3* | L3: Montant éligible retenu | M3: Commentaires * | N3: Ligne Instruite
I4: Nombre de ml retenu après instruction | J4: Nombre de ml retenu après instruction | K4: Nombre de ml retenu après instruction | M4: Justifier tout écart de ml par rapport à la demande du bénéficiciare
A5: Exemple | B5: ABDOU Mariame | C5: 12345678900014 | D5: 9760002 | E5: 300 | F5: 150 | G5: 150 | H5: 5175 | I5: 300 | J5: 150 | K5: 150 | L5: 5175 | M5: Pas d'écart | N5: Oui
A6: 1 | B6: =IF(Forfaits!B6=0,"",Forfaits!B6) | C6: =IF(Forfaits!C6=0,"",Forfaits!C6) | D6: =IF(Forfaits!D6=0,"",Forfaits!D6) | E6: =IF(Forfaits!E6=0,"",Forfaits!E6) | F6: =IF(Forfaits!F6=0,"",Forfaits!F6) | G6: =IF(Forfaits!G6=0,"",Forfaits!G6) | H6: =IF(Forfaits!H6=0,"",Forfaits!H6) | L6: =I6*Réf!$B$2+'Instruction Forfaits '!J6*Réf!$B$3+'Instruction Forfaits '!K6*Réf!$B$4 -> 0
A7: 2 | B7: =IF(Forfaits!B7=0,"",Forfaits!B7) | C7: =IF(Forfaits!C7=0,"",Forfaits!C7) | D7: =IF(Forfaits!D7=0,"",Forfaits!D7) | E7: =IF(Forfaits!E7=0,"",Forfaits!E7) | F7: =IF(Forfaits!F7=0,"",Forfaits!F7) | G7: =IF(Forfaits!G7=0,"",Forfaits!G7) | H7: =IF(Forfaits!H7=0,"",Forfaits!H7) | L7: =I7*Réf!$B$2+'Instruction Forfaits '!J7*Réf!$B$3+'Instruction Forfaits '!K7*Réf!$B$4 -> 0
A8: 3 | B8: =IF(Forfaits!B8=0,"",Forfaits!B8) | C8: =IF(Forfaits!C8=0,"",Forfaits!C8) | D8: =IF(Forfaits!D8=0,"",Forfaits!D8) | E8: =IF(Forfaits!E8=0,"",Forfaits!E8) | F8: =IF(Forfaits!F8=0,"",Forfaits!F8) | G8: =IF(Forfaits!G8=0,"",Forfaits!G8) | H8: =IF(Forfaits!H8=0,"",Forfaits!H8) | L8: =I8*Réf!$B$2+'Instruction Forfaits '!J8*Réf!$B$3+'Instruction Forfaits '!K8*Réf!$B$4 -> 0
A9: 4 | B9: =IF(Forfaits!B9=0,"",Forfaits!B9) | C9: =IF(Forfaits!C9=0,"",Forfaits!C9) | D9: =IF(Forfaits!D9=0,"",Forfaits!D9) | E9: =IF(Forfaits!E9=0,"",Forfaits!E9) | F9: =IF(Forfaits!F9=0,"",Forfaits!F9) | G9: =IF(Forfaits!G9=0,"",Forfaits!G9) | H9: =IF(Forfaits!H9=0,"",Forfaits!H9) | L9: =I9*Réf!$B$2+'Instruction Forfaits '!J9*Réf!$B$3+'Instruction Forfaits '!K9*Réf!$B$4 -> 0
A10: 5 | B10: =IF(Forfaits!B10=0,"",Forfaits!B10) | C10: =IF(Forfaits!C10=0,"",Forfaits!C10) | D10: =IF(Forfaits!D10=0,"",Forfaits!D10) | E10: =IF(Forfaits!E10=0,"",Forfaits!E10) | F10: =IF(Forfaits!F10=0,"",Forfaits!F10) | G10: =IF(Forfaits!G10=0,"",Forfaits!G10) | H10: =IF(Forfaits!H10=0,"",Forfaits!H10) | L10: =I10*Réf!$B$2+'Instruction Forfaits '!J10*Réf!$B$3+'Instruction Forfaits '!K10*Réf!$B$4 -> 0
A11: 6 | B11: =IF(Forfaits!B11=0,"",Forfaits!B11) | C11: =IF(Forfaits!C11=0,"",Forfaits!C11) | D11: =IF(Forfaits!D11=0,"",Forfaits!D11) | E11: =IF(Forfaits!E11=0,"",Forfaits!E11) | F11: =IF(Forfaits!F11=0,"",Forfaits!F11) | G11: =IF(Forfaits!G11=0,"",Forfaits!G11) | H11: =IF(Forfaits!H11=0,"",Forfaits!H11) | L11: =I11*Réf!$B$2+'Instruction Forfaits '!J11*Réf!$B$3+'Instruction Forfaits '!K11*Réf!$B$4 -> 0
A12: 7 | B12: =IF(Forfaits!B12=0,"",Forfaits!B12) | C12: =IF(Forfaits!C12=0,"",Forfaits!C12) | D12: =IF(Forfaits!D12=0,"",Forfaits!D12) | E12: =IF(Forfaits!E12=0,"",Forfaits!E12) | F12: =IF(Forfaits!F12=0,"",Forfaits!F12) | G12: =IF(Forfaits!G12=0,"",Forfaits!G12) | H12: =IF(Forfaits!H12=0,"",Forfaits!H12) | L12: =I12*Réf!$B$2+'Instruction Forfaits '!J12*Réf!$B$3+'Instruction Forfaits '!K12*Réf!$B$4 -> 0
A13: 8 | B13: =IF(Forfaits!B13=0,"",Forfaits!B13) | C13: =IF(Forfaits!C13=0,"",Forfaits!C13) | D13: =IF(Forfaits!D13=0,"",Forfaits!D13) | E13: =IF(Forfaits!E13=0,"",Forfaits!E13) | F13: =IF(Forfaits!F13=0,"",Forfaits!F13) | G13: =IF(Forfaits!G13=0,"",Forfaits!G13) | H13: =IF(Forfaits!H13=0,"",Forfaits!H13) | L13: =I13*Réf!$B$2+'Instruction Forfaits '!J13*Réf!$B$3+'Instruction Forfaits '!K13*Réf!$B$4 -> 0
A14: 9 | B14: =IF(Forfaits!B14=0,"",Forfaits!B14) | C14: =IF(Forfaits!C14=0,"",Forfaits!C14) | D14: =IF(Forfaits!D14=0,"",Forfaits!D14) | E14: =IF(Forfaits!E14=0,"",Forfaits!E14) | F14: =IF(Forfaits!F14=0,"",Forfaits!F14) | G14: =IF(Forfaits!G14=0,"",Forfaits!G14) | H14: =IF(Forfaits!H14=0,"",Forfaits!H14) | L14: =I14*Réf!$B$2+'Instruction Forfaits '!J14*Réf!$B$3+'Instruction Forfaits '!K14*Réf!$B$4 -> 0
A15: 10 | B15: =IF(Forfaits!B15=0,"",Forfaits!B15) | C15: =IF(Forfaits!C15=0,"",Forfaits!C15) | D15: =IF(Forfaits!D15=0,"",Forfaits!D15) | E15: =IF(Forfaits!E15=0,"",Forfaits!E15) | F15: =IF(Forfaits!F15=0,"",Forfaits!F15) | G15: =IF(Forfaits!G15=0,"",Forfaits!G15) | H15: =IF(Forfaits!H15=0,"",Forfaits!H15) | L15: =I15*Réf!$B$2+'Instruction Forfaits '!J15*Réf!$B$3+'Instruction Forfaits '!K15*Réf!$B$4 -> 0
A16: 11 | B16: =IF(Forfaits!B16=0,"",Forfaits!B16) | C16: =IF(Forfaits!C16=0,"",Forfaits!C16) | D16: =IF(Forfaits!D16=0,"",Forfaits!D16) | E16: =IF(Forfaits!E16=0,"",Forfaits!E16) | F16: =IF(Forfaits!F16=0,"",Forfaits!F16) | G16: =IF(Forfaits!G16=0,"",Forfaits!G16) | H16: =IF(Forfaits!H16=0,"",Forfaits!H16) | L16: =I16*Réf!$B$2+'Instruction Forfaits '!J16*Réf!$B$3+'Instruction Forfaits '!K16*Réf!$B$4 -> 0
A17: 12 | B17: =IF(Forfaits!B17=0,"",Forfaits!B17) | C17: =IF(Forfaits!C17=0,"",Forfaits!C17) | D17: =IF(Forfaits!D17=0,"",Forfaits!D17) | E17: =IF(Forfaits!E17=0,"",Forfaits!E17) | F17: =IF(Forfaits!F17=0,"",Forfaits!F17) | G17: =IF(Forfaits!G17=0,"",Forfaits!G17) | H17: =IF(Forfaits!H17=0,"",Forfaits!H17) | L17: =I17*Réf!$B$2+'Instruction Forfaits '!J17*Réf!$B$3+'Instruction Forfaits '!K17*Réf!$B$4 -> 0
... A50: 45 | B50: =IF(Forfaits!B50=0,"",Forfaits!B50) | C50: =IF(Forfaits!C50=0,"",Forfaits!C50) | D50: =IF(Forfaits!D50=0,"",Forfaits!D50) | E50: =IF(Forfaits!E50=0,"",Forfaits!E50) | F50: =IF(Forfaits!F50=0,"",Forfaits!F50) | G50: =IF(Forfaits!G50=0,"",Forfaits!G50) | H50: =IF(Forfaits!H50=0,"",Forfaits!H50) | L50: =I50*Réf!$B$2+'Instruction Forfaits '!J50*Réf!$B$3+'Instruction Forfaits '!K50*Réf!$B$4 -> 0
H51: TOTAL | I51: =SUM(I6:I50) -> 0 | J51: =SUM(J6:J50) -> 0 | K51: =SUM(K6:K50) -> 0 | L51: =SUM(L6:L50) -> 0

Sheet Réf
A1: Montant forfait
A2: Forfait 1 | B2: 10
A3: Forfait 2 | B3: 9
A4: Forfait 3 | B4: 5.5

Sheet Versions
A1: FEUILLE DE SYNTHESE DES FORFAITS
A2: N° de version | B2: Date de livraison | C2: Modifications apportées
A3: V1.0 | B3: 46289 | C3: Création de la feuille
